Workbook

Sheet Resumo Anos
D2: 1 | E2: 2 | F2: 3 | G2: 4 | H2: 5 | I2: 6 | J2: 7 | K2: 8 | L2: 9 | M2: 10 | N2: 11 | O2: 12 | P2: 13 | Q2: 14 | R2: 15 | S2: 16 | T2: 17 | U2: 18 | V2: 19 | W2: 20 | X2: 21
C3: Data de Subscrição: | D3: =YEAR('Resumo datas'!D3) -> 2023 | E3: =YEAR('Resumo datas'!E3) -> 2023 | F3: =YEAR('Resumo datas'!F3) -> 2023 | G3: =YEAR('Resumo datas'!G3) -> 2023 | H3: =YEAR('Resumo datas'!H3) -> 2023 | I3: =YEAR('Resumo datas'!I3) -> 2023 | J3: =YEAR('Resumo datas'!J3) -> 2023 | K3: =YEAR('Resumo datas'!K3) -> 2023 | ... V3: =YEAR('Resumo datas'!V3) -> 2024 | W3: =ANO('Resumo datas'!W3) | X3: =YEAR('Resumo datas'!X3) -> 1900
D4: =YEAR('Resumo datas'!D4) -> 2023 | E4: =YEAR('Resumo datas'!E4) -> 2023 | F4: =YEAR('Resumo datas'!F4) -> 2023 | G4: =YEAR('Resumo datas'!G4) -> 2023 | H4: =YEAR('Resumo datas'!H4) -> 2023 | I4: =YEAR('Resumo datas'!I4) -> 2023 | J4: =YEAR('Resumo datas'!J4) -> 2023 | K4: =YEAR('Resumo datas'!K4) -> 2023 | ... X4: =YEAR('Resumo datas'!X4) -> 1900
D5: =YEAR('Resumo datas'!D5) -> 2023 | E5: =YEAR('Resumo datas'!E5) -> 2023 | F5: =YEAR('Resumo datas'!F5) -> 2023 | G5: =YEAR('Resumo datas'!G5) -> 2023 | H5: =YEAR('Resumo datas'!H5) -> 2023 | I5: =YEAR('Resumo datas'!I5) -> 2023 | J5: =YEAR('Resumo datas'!J5) -> 2023 | K5: =YEAR('Resumo datas'!K5) -> 2024 | ... X5: =YEAR('Resumo datas'!X5) -> 1900
D6: =YEAR('Resumo datas'!D6) -> 2023 | E6: =YEAR('Resumo datas'!E6) -> 2024 | F6: =YEAR('Resumo datas'!F6) -> 2024 | G6: =YEAR('Resumo datas'!G6) -> 2024 | H6: =YEAR('Resumo datas'!H6) -> 2024 | I6: =YEAR('Resumo datas'!I6) -> 2024 | J6: =YEAR('Resumo datas'!J6) -> 2024 | K6: =YEAR('Resumo datas'!K6) -> 2024 | ... X6: =YEAR('Resumo datas'!X6) -> 1900
D7: =YEAR('Resumo datas'!D7) -> 2024 | E7: =YEAR('Resumo datas'!E7) -> 2024 | F7: =YEAR('Resumo datas'!F7) -> 2024 | G7: =YEAR('Resumo datas'!G7) -> 2024 | H7: =YEAR('Resumo datas'!H7) -> 2024 | I7: =YEAR('Resumo datas'!I7) -> 2024 | J7: =YEAR('Resumo datas'!J7) -> 2024 | K7: =YEAR('Resumo datas'!K7) -> 2024 | ... X7: =YEAR('Resumo datas'!X7) -> 1900
D8: =YEAR('Resumo datas'!D8) -> 2024 | E8: =YEAR('Resumo datas'!E8) -> 2024 | F8: =YEAR('Resumo datas'!F8) -> 2024 | G8: =YEAR('Resumo datas'!G8) -> 2024 | H8: =YEAR('Resumo datas'!H8) -> 2024 | I8: =YEAR('Resumo datas'!I8) -> 2024 | J8: =YEAR('Resumo datas'!J8) -> 2024 | K8: =YEAR('Resumo datas'!K8) -> 2024 | ... X8: =YEAR('Resumo datas'!X8) -> 1900
D9: =YEAR('Resumo datas'!D9) -> 2024 | E9: =YEAR('Resumo datas'!E9) -> 2024 | F9: =YEAR('Resumo datas'!F9) -> 2024 | G9: =YEAR('Resumo datas'!G9) -> 2024 | H9: =YEAR('Resumo datas'!H9) -> 2024 | I9: =YEAR('Resumo datas'!I9) -> 2024 | J9: =YEAR('Resumo datas'!J9) -> 2024 | K9: =YEAR('Resumo datas'!K9) -> 2025 | ... X9: =YEAR('Resumo datas'!X9) -> 1900
D10: =YEAR('Resumo datas'!D10) -> 2024 | E10: =YEAR('Resumo datas'!E10) -> 2025 | F10: =YEAR('Resumo datas'!F10) -> 2025 | G10: =YEAR('Resumo datas'!G10) -> 2025 | H10: =YEAR('Resumo datas'!H10) -> 2025 | I10: =YEAR('Resumo datas'!I10) -> 2025 | J10: =YEAR('Resumo datas'!J10) -> 2025 | K10: =YEAR('Resumo datas'!K10) -> 2025 | ... X10: =YEAR('Resumo datas'!X10) -> 1900
D11: =YEAR('Resumo datas'!D11) -> 2025 | E11: =YEAR('Resumo datas'!E11) -> 2025 | F11: =YEAR('Resumo datas'!F11) -> 2025 | G11: =YEAR('Resumo datas'!G11) -> 2025 | H11: =YEAR('Resumo datas'!H11) -> 2025 | I11: =YEAR('Resumo datas'!I11) -> 2025 | J11: =YEAR('Resumo datas'!J11) -> 2025 | K11: =YEAR('Resumo datas'!K11) -> 2025 | ... X11: =YEAR('Resumo datas'!X11) -> 1900
D12: =YEAR('Resumo datas'!D12) -> 2025 | E12: =YEAR('Resumo datas'!E12) -> 2025 | F12: =YEAR('Resumo datas'!F12) -> 2025 | G12: =YEAR('Resumo datas'!G12) -> 2025 | H12: =YEAR('Resumo datas'!H12) -> 2025 | I12: =YEAR('Resumo datas'!I12) -> 2025 | J12: =YEAR('Resumo datas'!J12) -> 2025 | K12: =YEAR('Resumo datas'!K12) -> 2025 | ... X12: =YEAR('Resumo datas'!X12) -> 1900
D13: =YEAR('Resumo datas'!D13) -> 2025 | E13: =YEAR('Resumo datas'!E13) -> 2025 | F13: =YEAR('Resumo datas'!F13) -> 2025 | G13: =YEAR('Resumo datas'!G13) -> 2025 | H13: =YEAR('Resumo datas'!H13) -> 2025 | I13: =YEAR('Resumo datas'!I13) -> 2025 | J13: =YEAR('Resumo datas'!J13) -> 2025 | K13: =YEAR('Resumo datas'!K13) -> 2026 | ... X13: =YEAR('Resumo datas'!X13) -> 1900
D14: =YEAR('Resumo datas'!D14) -> 2025 | E14: =YEAR('Resumo datas'!E14) -> 2026 | F14: =YEAR('Resumo datas'!F14) -> 2026 | G14: =YEAR('Resumo datas'!G14) -> 2026 | H14: =YEAR('Resumo datas'!H14) -> 2026 | I14: =YEAR('Resumo datas'!I14) -> 2026 | J14: =YEAR('Resumo datas'!J14) -> 2026 | K14: =YEAR('Resumo datas'!K14) -> 2026 | ... X14: =YEAR('Resumo datas'!X14) -> 1900
D15: =YEAR('Resumo datas'!D15) -> 2026 | E15: =YEAR('Resumo datas'!E15) -> 2026 | F15: =YEAR('Resumo datas'!F15) -> 2026 | G15: =YEAR('Resumo datas'!G15) -> 2026 | H15: =YEAR('Resumo datas'!H15) -> 2026 | I15: =YEAR('Resumo datas'!I15) -> 2026 | J15: =YEAR('Resumo datas'!J15) -> 2026 | K15: =YEAR('Resumo datas'!K15) -> 2026 | ... X15: =YEAR('Resumo datas'!X15) -> 1900
... D44: =YEAR('Resumo datas'!D44) -> 2033 | E44: =YEAR('Resumo datas'!E44) -> 2033 | F44: =YEAR('Resumo datas'!F44) -> 2033 | G44: =YEAR('Resumo datas'!G44) -> 2033 | H44: =YEAR('Resumo datas'!H44) -> 2033 | I44: =YEAR('Resumo datas'!I44) -> 2033 | J44: =YEAR('Resumo datas'!J44) -> 2033 | K44: =YEAR('Resumo datas'!K44) -> 2033 | ... X44: =YEAR('Resumo datas'!X44) -> 1900

Sheet RESUMO
C1: Rendimento | D1: IRS Retido | E1: Rendimento Liquido
B2: 2023 | C2: =SUMIF('Resumo Anos'!$D$3:$X$44,RESUMO!B2,'Resumo Rendimento'!$D$3:$X$4) -> 0.18 | D2: =C2*0.28 -> 0.0504 | E2: =C2-D2 -> 0.1296
B3: =B2+1 -> 2024 | C3: =SUMIF('Resumo Anos'!$D$3:$X$44,RESUMO!B3,'Resumo Rendimento'!$D$3:$X$4) -> 0.1 | D3: =C3*0.28 -> 0.028 | E3: =C3-D3 -> 0.072
B4: =B3+1 -> 2025 | C4: =SUMIF('Resumo Anos'!$D$3:$X$44,RESUMO!B4,'Resumo Rendimento'!$D$3:$X$4) -> 0 | D4: =C4*0.28 -> 0 | E4: =C4-D4 -> 0
B5: =B4+1 -> 2026 | C5: =SUMIF('Resumo Anos'!$D$3:$X$44,RESUMO!B5,'Resumo Rendimento'!$D$3:$X$4) -> 0 | D5: =C5*0.28 -> 0 | E5: =C5-D5 -> 0
B6: =B5+1 -> 2027 | C6: =SUMIF('Resumo Anos'!$D$3:$X$44,RESUMO!B6,'Resumo Rendimento'!$D$3:$X$4) -> 0 | D6: =C6*0.28 -> 0 | E6: =C6-D6 -> 0
B7: =B6+1 -> 2028 | C7: =SUMIF('Resumo Anos'!$D$3:$X$44,RESUMO!B7,'Resumo Rendimento'!$D$3:$X$4) -> 0 | D7: =C7*0.28 -> 0 | E7: =C7-D7 -> 0
B8: =B7+1 -> 2029 | C8: =SUMIF('Resumo Anos'!$D$3:$X$44,RESUMO!B8,'Resumo Rendimento'!$D$3:$X$4) -> 0 | D8: =C8*0.28 -> 0 | E8: =C8-D8 -> 0
B9: =B8+1 -> 2030 | C9: =SUMIF('Resumo Anos'!$D$3:$X$44,RESUMO!B9,'Resumo Rendimento'!$D$3:$X$4) -> 0 | D9: =C9*0.28 -> 0 | E9: =C9-D9 -> 0
B10: =B9+1 -> 2031 | C10: =SUMIF('Resumo Anos'!$D$3:$X$44,RESUMO!B10,'Resumo Rendimento'!$D$3:$X$4) -> 0 | D10: =C10*0.28 -> 0 | E10: =C10-D10 -> 0
B11: =B10+1 -> 2032 | C11: =SUMIF('Resumo Anos'!$D$3:$X$44,RESUMO!B11,'Resumo Rendimento'!$D$3:$X$4) -> 0 | D11: =C11*0.28 -> 0 | E11: =C11-D11 -> 0
B12: =B11+1 -> 2033 | C12: =SUMIF('Resumo Anos'!$D$3:$X$44,RESUMO!B12,'Resumo Rendimento'!$D$3:$X$4) -> 0 | D12: =C12*0.28 -> 0 | E12: =C12-D12 -> 0
B13: =B12+1 -> 2034 | C13: =SUMIF('Resumo Anos'!$D$3:$X$44,RESUMO!B13,'Resumo Rendimento'!$D$3:$X$4) -> 0 | D13: =C13*0.28 -> 0 | E13: =C13-D13 -> 0
B14: =B13+1 -> 2035 | C14: =SUMIF('Resumo Anos'!$D$3:$X$44,RESUMO!B14,'Resumo Rendimento'!$D$3:$X$4) -> 0 | D14: =C14*0.28 -> 0 | E14: =C14-D14 -> 0
... B17: =B16+1 -> 2038 | C17: =SUMIF('Resumo Anos'!$D$3:$X$44,RESUMO!B17,'Resumo Rendimento'!$D$3:$X$4) -> 0 | D17: =C17*0.28 -> 0 | E17: =C17-D17 -> 0

Sheet Resumo datas
A1: Data Ultima Verificação: | B1: 45631
A2: Data Atual | B2: =TODAY() -> 45642 | D2: 1 | E2: 2 | F2: 3 | G2: 4 | H2: 5 | I2: 6 | J2: 7 | K2: 8 | L2: 9 | M2: 10 | N2: 11 | O2: 12 | P2: 13 | Q2: 14 | R2: 15 | S2: 16 | T2: 17 | U2: 18 | V2: 19 | W2: 20 | X2: 21
A3: Prox. Mês | B3: =EDATE(B1,1) -> 45662 | C3: Data de Subscrição: | D3: ='(1) XXXXXXX'!C5 -> 44943 | E3: ='(2) XXXXXXX'!C5 -> 45040 | F3: ='(3) XXXXXXX'!C5 -> 45048 | G3: ='(4) XXXXXXX'!C5 -> 45048 | H3: ='(5) XXXXXXX'!C5 -> 45048 | I3: ='(6) XXXXXXX'!C5 -> 45050 | J3: ='(7) XXXXXXX'!C5 -> 45058 | K3: ='(8) XXXXXXX'!C5 -> 45128 | L3: ='(9) XXXXXXX'!C5 -> 45145 | M3: ='(10) XXXXXXX'!C5 -> 45296 | N3: ='(11) XXXXXXX'!C5 -> 45327 | O3: ='(12) XXXXXXX'!C5 -> 45355 | P3: ='(13) XXXXXXX'!C5 -> 45356 | Q3: ='(14) XXXXXXX'!C5 -> 45379 | R3: ='(15) XXXXXXX'!C5 -> 45384 | S3: ='(16) XXXXXXX'!C5 -> 45384 | T3: ='(17) XXXXXXX'!C5 -> 45391 | U3: ='(18) XXXXXXX'!C5 -> 45404 | V3: ='(19) XXXXXXX'!C5 -> 45463
D4: ='(1) XXXXXXX'!C6 -> 45033 | E4: ='(2) XXXXXXX'!C6 -> 45131 | F4: ='(3) XXXXXXX'!C6 -> 45140 | G4: ='(4) XXXXXXX'!C6 -> 45140 | H4: ='(5) XXXXXXX'!C6 -> 45140 | I4: ='(6) XXXXXXX'!C6 -> 45142 | J4: ='(7) XXXXXXX'!C6 -> 45150 | K4: ='(8) XXXXXXX'!C6 -> 45220 | L4: ='(9) XXXXXXX'!C6 -> 45237 | M4: ='(10) XXXXXXX'!C6 -> 45387 | N4: ='(11) XXXXXXX'!C6 -> 45417 | O4: ='(12) XXXXXXX'!C6 -> 45447 | P4: ='(13) XXXXXXX'!C6 -> 45448 | Q4: ='(14) XXXXXXX'!C6 -> 45471 | R4: ='(15) XXXXXXX'!C6 -> 45475 | S4: ='(16) XXXXXXX'!C6 -> 45475 | T4: ='(17) XXXXXXX'!C6 -> 45482 | U4: ='(18) XXXXXXX'!C6 -> 45495 | V4: ='(19) XXXXXXX'!C6 -> 45555
D5: ='(1) XXXXXXX'!C7 -> 45124 | E5: ='(2) XXXXXXX'!C7 -> 45223 | F5: ='(3) XXXXXXX'!C7 -> 45232 | G5: ='(4) XXXXXXX'!C7 -> 45232 | H5: ='(5) XXXXXXX'!C7 -> 45232 | I5: ='(6) XXXXXXX'!C7 -> 45234 | J5: ='(7) XXXXXXX'!C7 -> 45242 | K5: ='(8) XXXXXXX'!C7 -> 45312 | L5: ='(9) XXXXXXX'!C7 -> 45329 | M5: ='(10) XXXXXXX'!C7 -> 45478 | N5: ='(11) XXXXXXX'!C7 -> 45509 | O5: ='(12) XXXXXXX'!C7 -> 45539 | P5: ='(13) XXXXXXX'!C7 -> 45540 | Q5: ='(14) XXXXXXX'!C7 -> 45563 | R5: ='(15) XXXXXXX'!C7 -> 45567 | S5: ='(16) XXXXXXX'!C7 -> 45567 | T5: ='(17) XXXXXXX'!C7 -> 45574 | U5: ='(18) XXXXXXX'!C7 -> 45587 | V5: ='(19) XXXXXXX'!C7 -> 45646
D6: ='(1) XXXXXXX'!C8 -> 45216 | E6: ='(2) XXXXXXX'!C8 -> 45315 | F6: ='(3) XXXXXXX'!C8 -> 45324 | G6: ='(4) XXXXXXX'!C8 -> 45324 | H6: ='(5) XXXXXXX'!C8 -> 45324 | I6: ='(6) XXXXXXX'!C8 -> 45326 | J6: ='(7) XXXXXXX'!C8 -> 45334 | K6: ='(8) XXXXXXX'!C8 -> 45403 | L6: ='(9) XXXXXXX'!C8 -> 45419 | M6: ='(10) XXXXXXX'!C8 -> 45570 | N6: ='(11) XXXXXXX'!C8 -> 45601 | O6: ='(12) XXXXXXX'!C8 -> 45630 | P6: ='(13) XXXXXXX'!C8 -> 45631 | Q6: ='(14) XXXXXXX'!C8 -> 45654 | R6: ='(15) XXXXXXX'!C8 -> 45659 | S6: ='(16) XXXXXXX'!C8 -> 45659 | T6: ='(17) XXXXXXX'!C8 -> 45666 | U6: ='(18) XXXXXXX'!C8 -> 45679 | V6: ='(19) XXXXXXX'!C8 -> 45736
D7: ='(1) XXXXXXX'!C9 -> 45308 | E7: ='(2) XXXXXXX'!C9 -> 45406 | F7: ='(3) XXXXXXX'!C9 -> 45414 | G7: ='(4) XXXXXXX'!C9 -> 45414 | H7: ='(5) XXXXXXX'!C9 -> 45414 | I7: ='(6) XXXXXXX'!C9 -> 45416 | J7: ='(7) XXXXXXX'!C9 -> 45424 | K7: ='(8) XXXXXXX'!C9 -> 45494 | L7: ='(9) XXXXXXX'!C9 -> 45511 | M7: ='(10) XXXXXXX'!C9 -> 45662 | N7: ='(11) XXXXXXX'!C9 -> 45693 | O7: ='(12) XXXXXXX'!C9 -> 45720 | P7: ='(13) XXXXXXX'!C9 -> 45721 | Q7: ='(14) XXXXXXX'!C9 -> 45744 | R7: ='(15) XXXXXXX'!C9 -> 45749 | S7: ='(16) XXXXXXX'!C9 -> 45749 | T7: ='(17) XXXXXXX'!C9 -> 45756 | U7: ='(18) XXXXXXX'!C9 -> 45769 | V7: ='(19) XXXXXXX'!C9 -> 45828
D8: ='(1) XXXXXXX'!C10 -> 45399 | E8: ='(2) XXXXXXX'!C10 -> 45497 | F8: ='(3) XXXXXXX'!C10 -> 45506 | G8: ='(4) XXXXXXX'!C10 -> 45506 | H8: ='(5) XXXXXXX'!C10 -> 45506 | I8: ='(6) XXXXXXX'!C10 -> 45508 | J8: ='(7) XXXXXXX'!C10 -> 45516 | K8: ='(8) XXXXXXX'!C10 -> 45586 | L8: ='(9) XXXXXXX'!C10 -> 45603 | M8: ='(10) XXXXXXX'!C10 -> 45752 | N8: ='(11) XXXXXXX'!C10 -> 45782 | O8: ='(12) XXXXXXX'!C10 -> 45812 | P8: ='(13) XXXXXXX'!C10 -> 45813 | Q8: ='(14) XXXXXXX'!C10 -> 45836 | R8: ='(15) XXXXXXX'!C10 -> 45840 | S8: ='(16) XXXXXXX'!C10 -> 45840 | T8: ='(17) XXXXXXX'!C10 -> 45847 | U8: ='(18) XXXXXXX'!C10 -> 45860 | V8: ='(19) XXXXXXX'!C10 -> 45920
D9: ='(1) XXXXXXX'!C11 -> 45490 | E9: ='(2) XXXXXXX'!C11 -> 45589 | F9: ='(3) XXXXXXX'!C11 -> 45598 | G9: ='(4) XXXXXXX'!C11 -> 45598 | H9: ='(5) XXXXXXX'!C11 -> 45598 | I9: ='(6) XXXXXXX'!C11 -> 45600 | J9: ='(7) XXXXXXX'!C11 -> 45608 | K9: ='(8) XXXXXXX'!C11 -> 45678 | L9: ='(9) XXXXXXX'!C11 -> 45695 | M9: ='(10) XXXXXXX'!C11 -> 45843 | N9: ='(11) XXXXXXX'!C11 -> 45874 | O9: ='(12) XXXXXXX'!C11 -> 45904 | P9: ='(13) XXXXXXX'!C11 -> 45905 | Q9: ='(14) XXXXXXX'!C11 -> 45928 | R9: ='(15) XXXXXXX'!C11 -> 45932 | S9: ='(16) XXXXXXX'!C11 -> 45932 | T9: ='(17) XXXXXXX'!C11 -> 45939 | U9: ='(18) XXXXXXX'!C11 -> 45952 | V9: ='(19) XXXXXXX'!C11 -> 46011
D10: ='(1) XXXXXXX'!C12 -> 45582 | E10: ='(2) XXXXXXX'!C12 -> 45681 | F10: ='(3) XXXXXXX'!C12 -> 45690 | G10: ='(4) XXXXXXX'!C12 -> 45690 | H10: ='(5) XXXXXXX'!C12 -> 45690 | I10: ='(6) XXXXXXX'!C12 -> 45692 | J10: ='(7) XXXXXXX'!C12 -> 45700 | K10: ='(8) XXXXXXX'!C12 -> 45768 | L10: ='(9) XXXXXXX'!C12 -> 45784 | M10: ='(10) XXXXXXX'!C12 -> 45935 | N10: ='(11) XXXXXXX'!C12 -> 45966 | O10: ='(12) XXXXXXX'!C12 -> 45995 | P10: ='(13) XXXXXXX'!C12 -> 45996 | Q10: ='(14) XXXXXXX'!C12 -> 46019 | R10: ='(15) XXXXXXX'!C12 -> 46024 | S10: ='(16) XXXXXXX'!C12 -> 46024 | T10: ='(17) XXXXXXX'!C12 -> 46031 | U10: ='(18) XXXXXXX'!C12 -> 46044 | V10: ='(19) XXXXXXX'!C12 -> 46101
D11: ='(1) XXXXXXX'!C13 -> 45674 | E11: ='(2) XXXXXXX'!C13 -> 45771 | F11: ='(3) XXXXXXX'!C13 -> 45779 | G11: ='(4) XXXXXXX'!C13 -> 45779 | H11: ='(5) XXXXXXX'!C13 -> 45779 | I11: ='(6) XXXXXXX'!C13 -> 45781 | J11: ='(7) XXXXXXX'!C13 -> 45789 | K11: ='(8) XXXXXXX'!C13 -> 45859 | L11: ='(9) XXXXXXX'!C13 -> 45876 | M11: ='(10) XXXXXXX'!C13 -> 46027 | N11: ='(11) XXXXXXX'!C13 -> 46058 | O11: ='(12) XXXXXXX'!C13 -> 46085 | P11: ='(13) XXXXXXX'!C13 -> 46086 | Q11: ='(14) XXXXXXX'!C13 -> 46109 | R11: ='(15) XXXXXXX'!C13 -> 46114 | S11: ='(16) XXXXXXX'!C13 -> 46114 | T11: ='(17) XXXXXXX'!C13 -> 46121 | U11: ='(18) XXXXXXX'!C13 -> 46134 | V11: ='(19) XXXXXXX'!C13 -> 46193
D12: ='(1) XXXXXXX'!C14 -> 45764 | E12: ='(2) XXXXXXX'!C14 -> 45862 | F12: ='(3) XXXXXXX'!C14 -> 45871 | G12: ='(4) XXXXXXX'!C14 -> 45871 | H12: ='(5) XXXXXXX'!C14 -> 45871 | I12: ='(6) XXXXXXX'!C14 -> 45873 | J12: ='(7) XXXXXXX'!C14 -> 45881 | K12: ='(8) XXXXXXX'!C14 -> 45951 | L12: ='(9) XXXXXXX'!C14 -> 45968 | M12: ='(10) XXXXXXX'!C14 -> 46117 | N12: ='(11) XXXXXXX'!C14 -> 46147 | O12: ='(12) XXXXXXX'!C14 -> 46177 | P12: ='(13) XXXXXXX'!C14 -> 46178 | Q12: ='(14) XXXXXXX'!C14 -> 46201 | R12: ='(15) XXXXXXX'!C14 -> 46205 | S12: ='(16) XXXXXXX'!C14 -> 46205 | T12: ='(17) XXXXXXX'!C14 -> 46212 | U12: ='(18) XXXXXXX'!C14 -> 46225 | V12: ='(19) XXXXXXX'!C14 -> 46285
D13: ='(1) XXXXXXX'!C15 -> 45855 | E13: ='(2) XXXXXXX'!C15 -> 45954 | F13: ='(3) XXXXXXX'!C15 -> 45963 | G13: ='(4) XXXXXXX'!C15 -> 45963 | H13: ='(5) XXXXXXX'!C15 -> 45963 | I13: ='(6) XXXXXXX'!C15 -> 45965 | J13: ='(7) XXXXXXX'!C15 -> 45973 | K13: ='(8) XXXXXXX'!C15 -> 46043 | L13: ='(9) XXXXXXX'!C15 -> 46060 | M13: ='(10) XXXXXXX'!C15 -> 46208 | N13: ='(11) XXXXXXX'!C15 -> 46239 | O13: ='(12) XXXXXXX'!C15 -> 46269 | P13: ='(13) XXXXXXX'!C15 -> 46270 | Q13: ='(14) XXXXXXX'!C15 -> 46293 | R13: ='(15) XXXXXXX'!C15 -> 46297 | S13: ='(16) XXXXXXX'!C15 -> 46297 | T13: ='(17) XXXXXXX'!C15 -> 46304 | U13: ='(18) XXXXXXX'!C15 -> 46317 | V13: ='(19) XXXXXXX'!C15 -> 46376
D14: ='(1) XXXXXXX'!C16 -> 45947 | E14: ='(2) XXXXXXX'!C16 -> 46046 | F14: ='(3) XXXXXXX'!C16 -> 46055 | G14: ='(4) XXXXXXX'!C16 -> 46055 | H14: ='(5) XXXXXXX'!C16 -> 46055 | I14: ='(6) XXXXXXX'!C16 -> 46057 | J14: ='(7) XXXXXXX'!C16 -> 46065 | K14: ='(8) XXXXXXX'!C16 -> 46133 | L14: ='(9) XXXXXXX'!C16 -> 46149 | M14: ='(10) XXXXXXX'!C16 -> 46300 | N14: ='(11) XXXXXXX'!C16 -> 46331 | O14: ='(12) XXXXXXX'!C16 -> 46360 | P14: ='(13) XXXXXXX'!C16 -> 46361 | Q14: ='(14) XXXXXXX'!C16 -> 46384 | R14: ='(15) XXXXXXX'!C16 -> 46389 | S14: ='(16) XXXXXXX'!C16 -> 46389 | T14: ='(17) XXXXXXX'!C16 -> 46396 | U14: ='(18) XXXXXXX'!C16 -> 46409 | V14: ='(19) XXXXXXX'!C16 -> 46466
D15: ='(1) XXXXXXX'!C17 -> 46039 | E15: ='(2) XXXXXXX'!C17 -> 46136 | F15: ='(3) XXXXXXX'!C17 -> 46144 | G15: ='(4) XXXXXXX'!C17 -> 46144 | H15: ='(5) XXXXXXX'!C17 -> 46144 | I15: ='(6) XXXXXXX'!C17 -> 46146 | J15: ='(7) XXXXXXX'!C17 -> 46154 | K15: ='(8) XXXXXXX'!C17 -> 46224 | L15: ='(9) XXXXXXX'!C17 -> 46241 | M15: ='(10) XXXXXXX'!C17 -> 46392 | N15: ='(11) XXXXXXX'!C17 -> 46423 | O15: ='(12) XXXXXXX'!C17 -> 46450 | P15: ='(13) XXXXXXX'!C17 -> 46451 | Q15: ='(14) XXXXXXX'!C17 -> 46474 | R15: ='(15) XXXXXXX'!C17 -> 46479 | S15: ='(16) XXXXXXX'!C17 -> 46479 | T15: ='(17) XXXXXXX'!C17 -> 46486 | U15: ='(18) XXXXXXX'!C17 -> 46499 | V15: ='(19) XXXXXXX'!C17 -> 46558
... D44: ='(1) XXXXXXX'!C46 -> 48686 | E44: ='(2) XXXXXXX'!C46 -> 48784 | F44: ='(3) XXXXXXX'!C46 -> 48793 | G44: ='(4) XXXXXXX'!C46 -> 48793 | H44: ='(5) XXXXXXX'!C46 -> 48793 | I44: ='(6) XXXXXXX'!C46 -> 48795 | J44: ='(7) XXXXXXX'!C46 -> 48803 | K44: ='(8) XXXXXXX'!C46 -> 48873 | L44: ='(9) XXXXXXX'!C46 -> 48890 | M44: ='(10) XXXXXXX'!C46 -> 49039 | N44: ='(11) XXXXXXX'!C46 -> 49069 | O44: ='(12) XXXXXXX'!C46 -> 49099 | P44: ='(13) XXXXXXX'!C46 -> 49100 | Q44: ='(14) XXXXXXX'!C46 -> 49123 | R44: ='(15) XXXXXXX'!C46 -> 49127 | S44: ='(16) XXXXXXX'!C46 -> 49127 | T44: ='(17) XXXXXXX'!C46 -> 49134 | U44: ='(18) XXXXXXX'!C46 -> 49147 | V44: ='(19) XXXXXXX'!C46 -> 49207

Sheet Resumo Rendimento
A1: Data Ultima Verificação: | B1: ='Resumo datas'!B1 -> 45631
A2: Data Atual | B2: =TODAY() -> 45642 | D2: 1 | E2: 2 | F2: 3 | G2: 4 | H2: 5 | I2: 6 | J2: 7 | K2: 8 | L2: 9 | M2: 10 | N2: 11 | O2: 12 | P2: 13 | Q2: 14 | R2: 15 | S2: 16 | T2: 17 | U2: 18 | V2: 19 | W2: 20 | X2: 21
C3: Data de Subscrição: | D3: ='(1) XXXXXXX'!F5 -> 0 | E3: ='(2) XXXXXXX'!F5 -> 0 | F3: ='(3) XXXXXXX'!F5 -> 0 | G3: ='(4) XXXXXXX'!F5 -> 0 | H3: ='(5) XXXXXXX'!F5 -> 0 | I3: ='(6) XXXXXXX'!F5 -> 0 | J3: ='(7) XXXXXXX'!F5 -> 0 | K3: ='(8) XXXXXXX'!F5 -> 0 | L3: ='(9) XXXXXXX'!F5 -> 0 | M3: ='(10) XXXXXXX'!F5 -> 0 | N3: ='(11) XXXXXXX'!F5 -> 0 | O3: ='(12) XXXXXXX'!F5 -> 0 | P3: ='(13) XXXXXXX'!F5 -> 0 | Q3: ='(14) XXXXXXX'!F5 -> 0 | R3: ='(15) XXXXXXX'!F5 -> 0 | S3: ='(16) XXXXXXX'!F5 -> 0 | T3: ='(17) XXXXXXX'!F5 -> 0 | U3: ='(18) XXXXXXX'!F5 -> 0 | V3: ='(19) XXXXXXX'!F5 -> 0
A4: Total: | B4: =SUM(D3:X44) -> 0.28 | D4: ='(1) XXXXXXX'!F6 -> 0.1 | E4: ='(2) XXXXXXX'!F6 -> 0.01 | F4: ='(3) XXXXXXX'!F6 -> 0.01 | G4: ='(4) XXXXXXX'!F6 -> 0.01 | H4: ='(5) XXXXXXX'!F6 -> 0.01 | I4: ='(6) XXXXXXX'!F6 -> 0.01 | J4: ='(7) XXXXXXX'!F6 -> 0.01 | K4: ='(8) XXXXXXX'!F6 -> 0.01 | L4: ='(9) XXXXXXX'!F6 -> 0.01 | M4: ='(10) XXXXXXX'!F6 -> 0.01 | N4: ='(11) XXXXXXX'!F6 -> 0.01 | O4: ='(12) XXXXXXX'!F6 -> 0.01 | P4: ='(13) XXXXXXX'!F6 -> 0.01 | Q4: ='(14) XXXXXXX'!F6 -> 0.01 | R4: ='(15) XXXXXXX'!F6 -> 0.01 | S4: ='(16) XXXXXXX'!F6 -> 0.01 | T4: ='(17) XXXXXXX'!F6 -> 0.01 | U4: ='(18) XXXXXXX'!F6 -> 0.01 | V4: ='(19) XXXXXXX'!F6 -> 0.01
D5: ='(1) XXXXXXX'!F7 | E5: ='(2) XXXXXXX'!F7 | F5: ='(3) XXXXXXX'!F7 | G5: ='(4) XXXXXXX'!F7 | H5: ='(5) XXXXXXX'!F7 | I5: ='(6) XXXXXXX'!F7 | J5: ='(7) XXXXXXX'!F7 | K5: ='(8) XXXXXXX'!F7 | L5: ='(9) XXXXXXX'!F7 | M5: ='(10) XXXXXXX'!F7 | N5: ='(11) XXXXXXX'!F7 | O5: ='(12) XXXXXXX'!F7 | P5: ='(13) XXXXXXX'!F7 | Q5: ='(14) XXXXXXX'!F7 | R5: ='(15) XXXXXXX'!F7 | S5: ='(16) XXXXXXX'!F7 | T5: ='(17) XXXXXXX'!F7 | U5: ='(18) XXXXXXX'!F7 | V5: ='(19) XXXXXXX'!F7
D6: ='(1) XXXXXXX'!F8 | E6: ='(2) XXXXXXX'!F8 | F6: ='(3) XXXXXXX'!F8 | G6: ='(4) XXXXXXX'!F8 | H6: ='(5) XXXXXXX'!F8 | I6: ='(6) XXXXXXX'!F8 | J6: ='(7) XXXXXXX'!F8 | K6: ='(8) XXXXXXX'!F8 | L6: ='(9) XXXXXXX'!F8 | M6: ='(10) XXXXXXX'!F8 | N6: ='(11) XXXXXXX'!F8 | O6: ='(12) XXXXXXX'!F8 | P6: ='(13) XXXXXXX'!F8 | Q6: ='(14) XXXXXXX'!F8 | R6: ='(15) XXXXXXX'!F8 | S6: ='(16) XXXXXXX'!F8 | T6: ='(17) XXXXXXX'!F8 | U6: ='(18) XXXXXXX'!F8 | V6: ='(19) XXXXXXX'!F8
D7: ='(1) XXXXXXX'!F9 | E7: ='(2) XXXXXXX'!F9 | F7: ='(3) XXXXXXX'!F9 | G7: ='(4) XXXXXXX'!F9 | H7: ='(5) XXXXXXX'!F9 | I7: ='(6) XXXXXXX'!F9 | J7: ='(7) XXXXXXX'!F9 | K7: ='(8) XXXXXXX'!F9 | L7: ='(9) XXXXXXX'!F9 | M7: ='(10) XXXXXXX'!F9 | N7: ='(11) XXXXXXX'!F9 | O7: ='(12) XXXXXXX'!F9 | P7: ='(13) XXXXXXX'!F9 | Q7: ='(14) XXXXXXX'!F9 | R7: ='(15) XXXXXXX'!F9 | S7: ='(16) XXXXXXX'!F9 | T7: ='(17) XXXXXXX'!F9 | U7: ='(18) XXXXXXX'!F9 | V7: ='(19) XXXXXXX'!F9
D8: ='(1) XXXXXXX'!F10 | E8: ='(2) XXXXXXX'!F10 | F8: ='(3) XXXXXXX'!F10 | G8: ='(4) XXXXXXX'!F10 | H8: ='(5) XXXXXXX'!F10 | I8: ='(6) XXXXXXX'!F10 | J8: ='(7) XXXXXXX'!F10 | K8: ='(8) XXXXXXX'!F10 | L8: ='(9) XXXXXXX'!F10 | M8: ='(10) XXXXXXX'!F10 | N8: ='(11) XXXXXXX'!F10 | O8: ='(12) XXXXXXX'!F10 | P8: ='(13) XXXXXXX'!F10 | Q8: ='(14) XXXXXXX'!F10 | R8: ='(15) XXXXXXX'!F10 | S8: ='(16) XXXXXXX'!F10 | T8: ='(17) XXXXXXX'!F10 | U8: ='(18) XXXXXXX'!F10 | V8: ='(19) XXXXXXX'!F10
D9: ='(1) XXXXXXX'!F11 | E9: ='(2) XXXXXXX'!F11 | F9: ='(3) XXXXXXX'!F11 | G9: ='(4) XXXXXXX'!F11 | H9: ='(5) XXXXXXX'!F11 | I9: ='(6) XXXXXXX'!F11 | J9: ='(7) XXXXXXX'!F11 | K9: ='(8) XXXXXXX'!F11 | L9: ='(9) XXXXXXX'!F11 | M9: ='(10) XXXXXXX'!F11 | N9: ='(11) XXXXXXX'!F11 | O9: ='(12) XXXXXXX'!F11 | P9: ='(13) XXXXXXX'!F11 | Q9: ='(14) XXXXXXX'!F11 | R9: ='(15) XXXXXXX'!F11 | S9: ='(16) XXXXXXX'!F11 | T9: ='(17) XXXXXXX'!F11 | U9: ='(18) XXXXXXX'!F11 | V9: ='(19) XXXXXXX'!F11
D10: ='(1) XXXXXXX'!F12 | E10: ='(2) XXXXXXX'!F12 | F10: ='(3) XXXXXXX'!F12 | G10: ='(4) XXXXXXX'!F12 | H10: ='(5) XXXXXXX'!F12 | I10: ='(6) XXXXXXX'!F12 | J10: ='(7) XXXXXXX'!F12 | K10: ='(8) XXXXXXX'!F12 | L10: ='(9) XXXXXXX'!F12 | M10: ='(10) XXXXXXX'!F12 | N10: ='(11) XXXXXXX'!F12 | O10: ='(12) XXXXXXX'!F12 | P10: ='(13) XXXXXXX'!F12 | Q10: ='(14) XXXXXXX'!F12 | R10: ='(15) XXXXXXX'!F12 | S10: ='(16) XXXXXXX'!F12 | T10: ='(17) XXXXXXX'!F12 | U10: ='(18) XXXXXXX'!F12 | V10: ='(19) XXXXXXX'!F12
D11: ='(1) XXXXXXX'!F13 | E11: ='(2) XXXXXXX'!F13 | F11: ='(3) XXXXXXX'!F13 | G11: ='(4) XXXXXXX'!F13 | H11: ='(5) XXXXXXX'!F13 | I11: ='(6) XXXXXXX'!F13 | J11: ='(7) XXXXXXX'!F13 | K11: ='(8) XXXXXXX'!F13 | L11: ='(9) XXXXXXX'!F13 | M11: ='(10) XXXXXXX'!F13 | N11: ='(11) XXXXXXX'!F13 | O11: ='(12) XXXXXXX'!F13 | P11: ='(13) XXXXXXX'!F13 | Q11: ='(14) XXXXXXX'!F13 | R11: ='(15) XXXXXXX'!F13 | S11: ='(16) XXXXXXX'!F13 | T11: ='(17) XXXXXXX'!F13 | U11: ='(18) XXXXXXX'!F13 | V11: ='(19) XXXXXXX'!F13
D12: ='(1) XXXXXXX'!F14 | E12: ='(2) XXXXXXX'!F14 | F12: ='(3) XXXXXXX'!F14 | G12: ='(4) XXXXXXX'!F14 | H12: ='(5) XXXXXXX'!F14 | I12: ='(6) XXXXXXX'!F14 | J12: ='(7) XXXXXXX'!F14 | K12: ='(8) XXXXXXX'!F14 | L12: ='(9) XXXXXXX'!F14 | M12: ='(10) XXXXXXX'!F14 | N12: ='(11) XXXXXXX'!F14 | O12: ='(12) XXXXXXX'!F14 | P12: ='(13) XXXXXXX'!F14 | Q12: ='(14) XXXXXXX'!F14 | R12: ='(15) XXXXXXX'!F14 | S12: ='(16) XXXXXXX'!F14 | T12: ='(17) XXXXXXX'!F14 | U12: ='(18) XXXXXXX'!F14 | V12: ='(19) XXXXXXX'!F14
D13: ='(1) XXXXXXX'!F15 | E13: ='(2) XXXXXXX'!F15 | F13: ='(3) XXXXXXX'!F15 | G13: ='(4) XXXXXXX'!F15 | H13: ='(5) XXXXXXX'!F15 | I13: ='(6) XXXXXXX'!F15 | J13: ='(7) XXXXXXX'!F15 | K13: ='(8) XXXXXXX'!F15 | L13: ='(9) XXXXXXX'!F15 | M13: ='(10) XXXXXXX'!F15 | N13: ='(11) XXXXXXX'!F15 | O13: ='(12) XXXXXXX'!F15 | P13: ='(13) XXXXXXX'!F15 | Q13: ='(14) XXXXXXX'!F15 | R13: ='(15) XXXXXXX'!F15 | S13: ='(16) XXXXXXX'!F15 | T13: ='(17) XXXXXXX'!F15 | U13: ='(18) XXXXXXX'!F15 | V13: ='(19) XXXXXXX'!F15
D14: ='(1) XXXXXXX'!F16 | E14: ='(2) XXXXXXX'!F16 | F14: ='(3) XXXXXXX'!F16 | G14: ='(4) XXXXXXX'!F16 | H14: ='(5) XXXXXXX'!F16 | I14: ='(6) XXXXXXX'!F16 | J14: ='(7) XXXXXXX'!F16 | K14: ='(8) XXXXXXX'!F16 | L14: ='(9) XXXXXXX'!F16 | M14: ='(10) XXXXXXX'!F16 | N14: ='(11) XXXXXXX'!F16 | O14: ='(12) XXXXXXX'!F16 | P14: ='(13) XXXXXXX'!F16 | Q14: ='(14) XXXXXXX'!F16 | R14: ='(15) XXXXXXX'!F16 | S14: ='(16) XXXXXXX'!F16 | T14: ='(17) XXXXXXX'!F16 | U14: ='(18) XXXXXXX'!F16 | V14: ='(19) XXXXXXX'!F16
D15: ='(1) XXXXXXX'!F17 | E15: ='(2) XXXXXXX'!F17 | F15: ='(3) XXXXXXX'!F17 | G15: ='(4) XXXXXXX'!F17 | H15: ='(5) XXXXXXX'!F17 | I15: ='(6) XXXXXXX'!F17 | J15: ='(7) XXXXXXX'!F17 | K15: ='(8) XXXXXXX'!F17 | L15: ='(9) XXXXXXX'!F17 | M15: ='(10) XXXXXXX'!F17 | N15: ='(11) XXXXXXX'!F17 | O15: ='(12) XXXXXXX'!F17 | P15: ='(13) XXXXXXX'!F17 | Q15: ='(14) XXXXXXX'!F17 | R15: ='(15) XXXXXXX'!F17 | S15: ='(16) XXXXXXX'!F17 | T15: ='(17) XXXXXXX'!F17 | U15: ='(18) XXXXXXX'!F17 | V15: ='(19) XXXXXXX'!F17
D16: ='(1) XXXXXXX'!F18 | E16: ='(2) XXXXXXX'!F18 | F16: ='(3) XXXXXXX'!F18 | G16: ='(4) XXXXXXX'!F18 | H16: ='(5) XXXXXXX'!F18 | I16: ='(6) XXXXXXX'!F18 | J16: ='(7) XXXXXXX'!F18 | K16: ='(8) XXXXXXX'!F18 | L16: ='(9) XXXXXXX'!F18 | M16: ='(10) XXXXXXX'!F18 | N16: ='(11) XXXXXXX'!F18 | O16: ='(12) XXXXXXX'!F18 | P16: ='(13) XXXXXXX'!F18 | Q16: ='(14) XXXXXXX'!F18 | R16: ='(15) XXXXXXX'!F18 | S16: ='(16) XXXXXXX'!F18 | T16: ='(17) XXXXXXX'!F18 | U16: ='(18) XXXXXXX'!F18 | V16: ='(19) XXXXXXX'!F18
... D44: ='(1) XXXXXXX'!F46 | E44: ='(2) XXXXXXX'!F46 | F44: ='(3) XXXXXXX'!F46 | G44: ='(4) XXXXXXX'!F46 | H44: ='(5) XXXXXXX'!F46 | I44: ='(6) XXXXXXX'!F46 | J44: ='(7) XXXXXXX'!F46 | K44: ='(8) XXXXXXX'!F46 | L44: ='(9) XXXXXXX'!F46 | M44: ='(10) XXXXXXX'!F46 | N44: ='(11) XXXXXXX'!F46 | O44: ='(12) XXXXXXX'!F46 | P44: ='(13) XXXXXXX'!F46 | Q44: ='(14) XXXXXXX'!F46 | R44: ='(15) XXXXXXX'!F46 | S44: ='(16) XXXXXXX'!F46 | T44: ='(17) XXXXXXX'!F46 | U44: ='(18) XXXXXXX'!F46 | V44: ='(19) XXXXXXX'!F46

Sheet Resumo Taxa Anual
A1: Data Ultima Verificação: | B1: ='Resumo datas'!B1 -> 45631
A2: Data Atual | B2: =TODAY() -> 45642 | D2: 1 | E2: 2 | F2: 3 | G2: 4 | H2: 5 | I2: 6 | J2: 7 | K2: 8 | L2: 9 | M2: 10 | N2: 11 | O2: 12 | P2: 13 | Q2: 14 | R2: 15 | S2: 16 | T2: 17 | U2: 18 | V2: 19 | W2: 20 | X2: 21
C3: Data de Subscrição: | D3: ='(1) XXXXXXX'!H5 -> 0 | E3: ='(2) XXXXXXX'!H5 -> 0 | F3: ='(3) XXXXXXX'!H5 -> 0 | G3: ='(4) XXXXXXX'!H5 -> 0 | H3: ='(5) XXXXXXX'!H5 -> 0 | I3: ='(6) XXXXXXX'!H5 -> 0 | J3: ='(7) XXXXXXX'!H5 -> 0 | K3: ='(8) XXXXXXX'!H5 -> 0 | L3: ='(9) XXXXXXX'!H5 -> 0 | M3: ='(10) XXXXXXX'!H5 -> 0 | N3: ='(11) XXXXXXX'!H5 -> 0 | O3: ='(12) XXXXXXX'!H5 -> 0 | P3: ='(13) XXXXXXX'!H5 -> 0 | Q3: ='(14) XXXXXXX'!H5 -> 0 | R3: ='(15) XXXXXXX'!H5 -> 0 | S3: ='(16) XXXXXXX'!H5 -> 0 | T3: ='(17) XXXXXXX'!H5 -> 0 | U3: ='(18) XXXXXXX'!H5 -> 0 | V3: ='(19) XXXXXXX'!H5 -> 0
D4: ='(1) XXXXXXX'!H6 -> 0.055555556 | E4: ='(2) XXXXXXX'!H6 -> 0.055555556 | F4: ='(3) XXXXXXX'!H6 -> 0.055555556 | G4: ='(4) XXXXXXX'!H6 -> 0.055555556 | H4: ='(5) XXXXXXX'!H6 -> 0.055555556 | I4: ='(6) XXXXXXX'!H6 -> 0.055555556 | J4: ='(7) XXXXXXX'!H6 -> 0.055555556 | K4: ='(8) XXXXXXX'!H6 -> 0.055555556 | L4: ='(9) XXXXXXX'!H6 -> 0.055555556 | M4: ='(10) XXXXXXX'!H6 -> 0.055555556 | N4: ='(11) XXXXXXX'!H6 -> 0.055555556 | O4: ='(12) XXXXXXX'!H6 -> 0.055555556 | P4: ='(13) XXXXXXX'!H6 -> 0.055555556 | Q4: ='(14) XXXXXXX'!H6 -> 0.055555556 | R4: ='(15) XXXXXXX'!H6 -> 0.055555556 | S4: ='(16) XXXXXXX'!H6 -> 0.055555556 | T4: ='(17) XXXXXXX'!H6 -> 0.055555556 | U4: ='(18) XXXXXXX'!H6 -> 0.055555556 | V4: ='(19) XXXXXXX'!H6 -> 0.055555556
D5: ='(1) XXXXXXX'!H7 | E5: ='(2) XXXXXXX'!H7 | F5: ='(3) XXXXXXX'!H7 | G5: ='(4) XXXXXXX'!H7 | H5: ='(5) XXXXXXX'!H7 | I5: ='(6) XXXXXXX'!H7 | J5: ='(7) XXXXXXX'!H7 | K5: ='(8) XXXXXXX'!H7 | L5: ='(9) XXXXXXX'!H7 | M5: ='(10) XXXXXXX'!H7 | N5: ='(11) XXXXXXX'!H7 | O5: ='(12) XXXXXXX'!H7 | P5: ='(13) XXXXXXX'!H7 | Q5: ='(14) XXXXXXX'!H7 | R5: ='(15) XXXXXXX'!H7 | S5: ='(16) XXXXXXX'!H7 | T5: ='(17) XXXXXXX'!H7 | U5: ='(18) XXXXXXX'!H7 | V5: ='(19) XXXXXXX'!H7
D6: ='(1) XXXXXXX'!H8 | E6: ='(2) XXXXXXX'!H8 | F6: ='(3) XXXXXXX'!H8 | G6: ='(4) XXXXXXX'!H8 | H6: ='(5) XXXXXXX'!H8 | I6: ='(6) XXXXXXX'!H8 | J6: ='(7) XXXXXXX'!H8 | K6: ='(8) XXXXXXX'!H8 | L6: ='(9) XXXXXXX'!H8 | M6: ='(10) XXXXXXX'!H8 | N6: ='(11) XXXXXXX'!H8 | O6: ='(12) XXXXXXX'!H8 | P6: ='(13) XXXXXXX'!H8 | Q6: ='(14) XXXXXXX'!H8 | R6: ='(15) XXXXXXX'!H8 | S6: ='(16) XXXXXXX'!H8 | T6: ='(17) XXXXXXX'!H8 | U6: ='(18) XXXXXXX'!H8 | V6: ='(19) XXXXXXX'!H8
D7: ='(1) XXXXXXX'!H9 | E7: ='(2) XXXXXXX'!H9 | F7: ='(3) XXXXXXX'!H9 | G7: ='(4) XXXXXXX'!H9 | H7: ='(5) XXXXXXX'!H9 | I7: ='(6) XXXXXXX'!H9 | J7: ='(7) XXXXXXX'!H9 | K7: ='(8) XXXXXXX'!H9 | L7: ='(9) XXXXXXX'!H9 | M7: ='(10) XXXXXXX'!H9 | N7: ='(11) XXXXXXX'!H9 | O7: ='(12) XXXXXXX'!H9 | P7: ='(13) XXXXXXX'!H9 | Q7: ='(14) XXXXXXX'!H9 | R7: ='(15) XXXXXXX'!H9 | S7: ='(16) XXXXXXX'!H9 | T7: ='(17) XXXXXXX'!H9 | U7: ='(18) XXXXXXX'!H9 | V7: ='(19) XXXXXXX'!H9
D8: ='(1) XXXXXXX'!H10 | E8: ='(2) XXXXXXX'!H10 | F8: ='(3) XXXXXXX'!H10 | G8: ='(4) XXXXXXX'!H10 | H8: ='(5) XXXXXXX'!H10 | I8: ='(6) XXXXXXX'!H10 | J8: ='(7) XXXXXXX'!H10 | K8: ='(8) XXXXXXX'!H10 | L8: ='(9) XXXXXXX'!H10 | M8: ='(10) XXXXXXX'!H10 | N8: ='(11) XXXXXXX'!H10 | O8: ='(12) XXXXXXX'!H10 | P8: ='(13) XXXXXXX'!H10 | Q8: ='(14) XXXXXXX'!H10 | R8: ='(15) XXXXXXX'!H10 | S8: ='(16) XXXXXXX'!H10 | T8: ='(17) XXXXXXX'!H10 | U8: ='(18) XXXXXXX'!H10 | V8: ='(19) XXXXXXX'!H10
D9: ='(1) XXXXXXX'!H11 | E9: ='(2) XXXXXXX'!H11 | F9: ='(3) XXXXXXX'!H11 | G9: ='(4) XXXXXXX'!H11 | H9: ='(5) XXXXXXX'!H11 | I9: ='(6) XXXXXXX'!H11 | J9: ='(7) XXXXXXX'!H11 | K9: ='(8) XXXXXXX'!H11 | L9: ='(9) XXXXXXX'!H11 | M9: ='(10) XXXXXXX'!H11 | N9: ='(11) XXXXXXX'!H11 | O9: ='(12) XXXXXXX'!H11 | P9: ='(13) XXXXXXX'!H11 | Q9: ='(14) XXXXXXX'!H11 | R9: ='(15) XXXXXXX'!H11 | S9: ='(16) XXXXXXX'!H11 | T9: ='(17) XXXXXXX'!H11 | U9: ='(18) XXXXXXX'!H11 | V9: ='(19) XXXXXXX'!H11
D10: ='(1) XXXXXXX'!H12 | E10: ='(2) XXXXXXX'!H12 | F10: ='(3) XXXXXXX'!H12 | G10: ='(4) XXXXXXX'!H12 | H10: ='(5) XXXXXXX'!H12 | I10: ='(6) XXXXXXX'!H12 | J10: ='(7) XXXXXXX'!H12 | K10: ='(8) XXXXXXX'!H12 | L10: ='(9) XXXXXXX'!H12 | M10: ='(10) XXXXXXX'!H12 | N10: ='(11) XXXXXXX'!H12 | O10: ='(12) XXXXXXX'!H12 | P10: ='(13) XXXXXXX'!H12 | Q10: ='(14) XXXXXXX'!H12 | R10: ='(15) XXXXXXX'!H12 | S10: ='(16) XXXXXXX'!H12 | T10: ='(17) XXXXXXX'!H12 | U10: ='(18) XXXXXXX'!H12 | V10: ='(19) XXXXXXX'!H12
D11: ='(1) XXXXXXX'!H13 | E11: ='(2) XXXXXXX'!H13 | F11: ='(3) XXXXXXX'!H13 | G11: ='(4) XXXXXXX'!H13 | H11: ='(5) XXXXXXX'!H13 | I11: ='(6) XXXXXXX'!H13 | J11: ='(7) XXXXXXX'!H13 | K11: ='(8) XXXXXXX'!H13 | L11: ='(9) XXXXXXX'!H13 | M11: ='(10) XXXXXXX'!H13 | N11: ='(11) XXXXXXX'!H13 | O11: ='(12) XXXXXXX'!H13 | P11: ='(13) XXXXXXX'!H13 | Q11: ='(14) XXXXXXX'!H13 | R11: ='(15) XXXXXXX'!H13 | S11: ='(16) XXXXXXX'!H13 | T11: ='(17) XXXXXXX'!H13 | U11: ='(18) XXXXXXX'!H13 | V11: ='(19) XXXXXXX'!H13
D12: ='(1) XXXXXXX'!H14 | E12: ='(2) XXXXXXX'!H14 | F12: ='(3) XXXXXXX'!H14 | G12: ='(4) XXXXXXX'!H14 | H12: ='(5) XXXXXXX'!H14 | I12: ='(6) XXXXXXX'!H14 | J12: ='(7) XXXXXXX'!H14 | K12: ='(8) XXXXXXX'!H14 | L12: ='(9) XXXXXXX'!H14 | M12: ='(10) XXXXXXX'!H14 | N12: ='(11) XXXXXXX'!H14 | O12: ='(12) XXXXXXX'!H14 | P12: ='(13) XXXXXXX'!H14 | Q12: ='(14) XXXXXXX'!H14 | R12: ='(15) XXXXXXX'!H14 | S12: ='(16) XXXXXXX'!H14 | T12: ='(17) XXXXXXX'!H14 | U12: ='(18) XXXXXXX'!H14 | V12: ='(19) XXXXXXX'!H14
D13: ='(1) XXXXXXX'!H15 | E13: ='(2) XXXXXXX'!H15 | F13: ='(3) XXXXXXX'!H15 | G13: ='(4) XXXXXXX'!H15 | H13: ='(5) XXXXXXX'!H15 | I13: ='(6) XXXXXXX'!H15 | J13: ='(7) XXXXXXX'!H15 | K13: ='(8) XXXXXXX'!H15 | L13: ='(9) XXXXXXX'!H15 | M13: ='(10) XXXXXXX'!H15 | N13: ='(11) XXXXXXX'!H15 | O13: ='(12) XXXXXXX'!H15 | P13: ='(13) XXXXXXX'!H15 | Q13: ='(14) XXXXXXX'!H15 | R13: ='(15) XXXXXXX'!H15 | S13: ='(16) XXXXXXX'!H15 | T13: ='(17) XXXXXXX'!H15 | U13: ='(18) XXXXXXX'!H15 | V13: ='(19) XXXXXXX'!H15
D14: ='(1) XXXXXXX'!H16 | E14: ='(2) XXXXXXX'!H16 | F14: ='(3) XXXXXXX'!H16 | G14: ='(4) XXXXXXX'!H16 | H14: ='(5) XXXXXXX'!H16 | I14: ='(6) XXXXXXX'!H16 | J14: ='(7) XXXXXXX'!H16 | K14: ='(8) XXXXXXX'!H16 | L14: ='(9) XXXXXXX'!H16 | M14: ='(10) XXXXXXX'!H16 | N14: ='(11) XXXXXXX'!H16 | O14: ='(12) XXXXXXX'!H16 | P14: ='(13) XXXXXXX'!H16 | Q14: ='(14) XXXXXXX'!H16 | R14: ='(15) XXXXXXX'!H16 | S14: ='(16) XXXXXXX'!H16 | T14: ='(17) XXXXXXX'!H16 | U14: ='(18) XXXXXXX'!H16 | V14: ='(19) XXXXXXX'!H16
D15: ='(1) XXXXXXX'!H17 | E15: ='(2) XXXXXXX'!H17 | F15: ='(3) XXXXXXX'!H17 | G15: ='(4) XXXXXXX'!H17 | H15: ='(5) XXXXXXX'!H17 | I15: ='(6) XXXXXXX'!H17 | J15: ='(7) XXXXXXX'!H17 | K15: ='(8) XXXXXXX'!H17 | L15: ='(9) XXXXXXX'!H17 | M15: ='(10) XXXXXXX'!H17 | N15: ='(11) XXXXXXX'!H17 | O15: ='(12) XXXXXXX'!H17 | P15: ='(13) XXXXXXX'!H17 | Q15: ='(14) XXXXXXX'!H17 | R15: ='(15) XXXXXXX'!H17 | S15: ='(16) XXXXXXX'!H17 | T15: ='(17) XXXXXXX'!H17 | U15: ='(18) XXXXXXX'!H17 | V15: ='(19) XXXXXXX'!H17
... D44: ='(1) XXXXXXX'!H46 | E44: ='(2) XXXXXXX'!H46 | F44: ='(3) XXXXXXX'!H46 | G44: ='(4) XXXXXXX'!H46 | H44: ='(5) XXXXXXX'!H46 | I44: ='(6) XXXXXXX'!H46 | J44: ='(7) XXXXXXX'!H46 | K44: ='(8) XXXXXXX'!H46 | L44: ='(9) XXXXXXX'!H46 | M44: ='(10) XXXXXXX'!H46 | N44: ='(11) XXXXXXX'!H46 | O44: ='(12) XXXXXXX'!H46 | P44: ='(13) XXXXXXX'!H46 | Q44: ='(14) XXXXXXX'!H46 | R44: ='(15) XXXXXXX'!H46 | S44: ='(16) XXXXXXX'!H46 | T44: ='(17) XXXXXXX'!H46 | U44: ='(18) XXXXXXX'!H46 | V44: ='(19) XXXXXXX'!H46

Sheet (1) XXXXXXX
B4: Produto | C4: Data Subscr. | D4: Valor Inicial | E4: Valor Final | F4: Dif. Valor | G4: Taxa anual Liquida | H4: Taxa anual Bruta | I4: IRS
B5: CAF / Série E | C5: 44943 | E5: 10
C6: =EDATE(C5,3) -> 45033 | D6: =E5 -> 10 | E6: 10.1 | F6: =IF(E6=0,"",E6-D6) -> 0.1 | G6: =IFERROR((F6/D6)*4,"") -> 0.04 | H6: =IFERROR(G6/0.72,"") -> 0.055555556 | I6: =IFERROR(F6/0.72-F6,"") -> 0.038888889
C7: =EDATE(C6,3) -> 45124 | D7: =E6 -> 10.1 | F7: =IF(E7=0,"",E7-D7) | G7: =IFERROR((F7/D7)*4,"") | H7: =IFERROR(G7/0.72,"") | I7: =IFERROR(F7/0.72-F7,"")
C8: =EDATE(C7,3) -> 45216 | D8: =E7 -> 0 | F8: =IF(E8=0,"",E8-D8) | G8: =IFERROR((F8/D8)*4,"") | H8: =IFERROR(G8/0.72,"") | I8: =IFERROR(F8/0.72-F8,"")
C9: =EDATE(C8,3) -> 45308 | D9: =E8 -> 0 | F9: =IF(E9=0,"",E9-D9) | G9: =IFERROR((F9/D9)*4,"") | H9: =IFERROR(G9/0.72,"") | I9: =IFERROR(F9/0.72-F9,"")
C10: =EDATE(C9,3) -> 45399 | D10: =E9 -> 0 | F10: =IF(E10=0,"",E10-D10) | G10: =IFERROR((F10/D10)*4,"") | H10: =IFERROR(G10/0.72,"") | I10: =IFERROR(F10/0.72-F10,"")
C11: =EDATE(C10,3) -> 45490 | D11: =E10 -> 0 | F11: =IF(E11=0,"",E11-D11) | G11: =IFERROR((F11/D11)*4,"") | H11: =IFERROR(G11/0.72,"") | I11: =IFERROR(F11/0.72-F11,"")
C12: =EDATE(C11,3) -> 45582 | D12: =E11 -> 0 | F12: =IF(E12=0,"",E12-D12) | G12: =IFERROR((F12/D12)*4,"") | H12: =IFERROR(G12/0.72,"") | I12: =IFERROR(F12/0.72-F12,"")
C13: =EDATE(C12,3) -> 45674 | D13: =E12 -> 0 | F13: =IF(E13=0,"",E13-D13) | G13: =IFERROR((F13/D13)*4,"") | H13: =IFERROR(G13/0.72,"") | I13: =IFERROR(F13/0.72-F13,"")
C14: =EDATE(C13,3) -> 45764 | D14: =E13 -> 0 | F14: =IF(E14=0,"",E14-D14) | G14: =IFERROR((F14/D14)*4,"") | H14: =IFERROR(G14/0.72,"") | I14: =IFERROR(F14/0.72-F14,"")
C15: =EDATE(C14,3) -> 45855 | D15: =E14 -> 0 | F15: =IF(E15=0,"",E15-D15) | G15: =IFERROR((F15/D15)*4,"") | H15: =IFERROR(G15/0.72,"") | I15: =IFERROR(F15/0.72-F15,"")
C16: =EDATE(C15,3) -> 45947 | D16: =E15 -> 0 | F16: =IF(E16=0,"",E16-D16) | G16: =IFERROR((F16/D16)*4,"") | H16: =IFERROR(G16/0.72,"") | I16: =IFERROR(F16/0.72-F16,"")
C17: =EDATE(C16,3) -> 46039 | D17: =E16 -> 0 | F17: =IF(E17=0,"",E17-D17) | G17: =IFERROR((F17/D17)*4,"") | H17: =IFERROR(G17/0.72,"") | I17: =IFERROR(F17/0.72-F17,"")
C18: =EDATE(C17,3) -> 46129 | D18: =E17 -> 0 | F18: =IF(E18=0,"",E18-D18) | G18: =IFERROR((F18/D18)*4,"") | H18: =IFERROR(G18/0.72,"") | I18: =IFERROR(F18/0.72-F18,"")
... C46: =EDATE(C45,3) -> 48686 | D46: =E45 -> 0 | F46: =IF(E46=0,"",E46-D46) | G46: =IFERROR((F46/D46)*4,"") | H46: =IFERROR(G46/0.72,"") | I46: =IFERROR(F46/0.72-F46,"")

Sheet (2) XXXXXXX
B4: Produto | C4: Data Subscr. | D4: Valor Inicial | E4: Valor Final | F4: Dif. Valor | G4: Taxa anual Liquida | H4: Taxa anual Bruta | I4: IRS
B5: CAF / Série E | C5: 45040 | E5: 1
C6: =EDATE(C5,3) -> 45131 | D6: =E5 -> 1 | E6: 1.01 | F6: =IF(E6=0,"",E6-D6) -> 0.01 | G6: =IFERROR((F6/D6)*4,"") -> 0.04 | H6: =IFERROR(G6/0.72,"") -> 0.055555556 | I6: =IFERROR(F6/0.72-F6,"") -> 0.0038888889
C7: =EDATE(C6,3) -> 45223 | D7: =E6 -> 1.01 | F7: =IF(E7=0,"",E7-D7) | G7: =IFERROR((F7/D7)*4,"") | H7: =IFERROR(G7/0.72,"") | I7: =IFERROR(F7/0.72-F7,"")
C8: =EDATE(C7,3) -> 45315 | D8: =E7 -> 0 | F8: =IF(E8=0,"",E8-D8) | G8: =IFERROR((F8/D8)*4,"") | H8: =IFERROR(G8/0.72,"") | I8: =IFERROR(F8/0.72-F8,"")
C9: =EDATE(C8,3) -> 45406 | D9: =E8 -> 0 | F9: =IF(E9=0,"",E9-D9) | G9: =IFERROR((F9/D9)*4,"") | H9: =IFERROR(G9/0.72,"") | I9: =IFERROR(F9/0.72-F9,"")
C10: =EDATE(C9,3) -> 45497 | D10: =E9 -> 0 | F10: =IF(E10=0,"",E10-D10) | G10: =IFERROR((F10/D10)*4,"") | H10: =IFERROR(G10/0.72,"") | I10: =IFERROR(F10/0.72-F10,"")
C11: =EDATE(C10,3) -> 45589 | D11: =E10 -> 0 | F11: =IF(E11=0,"",E11-D11) | G11: =IFERROR((F11/D11)*4,"") | H11: =IFERROR(G11/0.72,"") | I11: =IFERROR(F11/0.72-F11,"")
C12: =EDATE(C11,3) -> 45681 | D12: =E11 -> 0 | F12: =IF(E12=0,"",E12-D12) | G12: =IFERROR((F12/D12)*4,"") | H12: =IFERROR(G12/0.72,"") | I12: =IFERROR(F12/0.72-F12,"")
C13: =EDATE(C12,3) -> 45771 | D13: =E12 -> 0 | F13: =IF(E13=0,"",E13-D13) | G13: =IFERROR((F13/D13)*4,"") | H13: =IFERROR(G13/0.72,"") | I13: =IFERROR(F13/0.72-F13,"")
C14: =EDATE(C13,3) -> 45862 | D14: =E13 -> 0 | F14: =IF(E14=0,"",E14-D14) | G14: =IFERROR((F14/D14)*4,"") | H14: =IFERROR(G14/0.72,"") | I14: =IFERROR(F14/0.72-F14,"")
C15: =EDATE(C14,3) -> 45954 | D15: =E14 -> 0 | F15: =IF(E15=0,"",E15-D15) | G15: =IFERROR((F15/D15)*4,"") | H15: =IFERROR(G15/0.72,"") | I15: =IFERROR(F15/0.72-F15,"")
C16: =EDATE(C15,3) -> 46046 | D16: =E15 -> 0 | F16: =IF(E16=0,"",E16-D16) | G16: =IFERROR((F16/D16)*4,"") | H16: =IFERROR(G16/0.72,"") | I16: =IFERROR(F16/0.72-F16,"")
C17: =EDATE(C16,3) -> 46136 | D17: =E16 -> 0 | F17: =IF(E17=0,"",E17-D17) | G17: =IFERROR((F17/D17)*4,"") | H17: =IFERROR(G17/0.72,"") | I17: =IFERROR(F17/0.72-F17,"")
C18: =EDATE(C17,3) -> 46227 | D18: =E17 -> 0 | F18: =IF(E18=0,"",E18-D18) | G18: =IFERROR((F18/D18)*4,"") | H18: =IFERROR(G18/0.72,"") | I18: =IFERROR(F18/0.72-F18,"")
... C46: =EDATE(C45,3) -> 48784 | D46: =E45 -> 0 | F46: =IF(E46=0,"",E46-D46) | G46: =IFERROR((F46/D46)*4,"") | H46: =IFERROR(G46/0.72,"") | I46: =IFERROR(F46/0.72-F46,"")

Sheet (3) XXXXXXX
B4: Produto | C4: Data Subscr. | D4: Valor Inicial | E4: Valor Final | F4: Dif. Valor | G4: Taxa anual Liquida | H4: Taxa anual Bruta | I4: IRS
B5: CAF / Série E | C5: 45048 | E5: 1
C6: =EDATE(C5,3) -> 45140 | D6: =E5 -> 1 | E6: 1.01 | F6: =IF(E6=0,"",E6-D6) -> 0.01 | G6: =IFERROR((F6/D6)*4,"") -> 0.04 | H6: =IFERROR(G6/0.72,"") -> 0.055555556 | I6: =IFERROR(F6/0.72-F6,"") -> 0.0038888889
C7: =EDATE(C6,3) -> 45232 | D7: =E6 -> 1.01 | F7: =IF(E7=0,"",E7-D7) | G7: =IFERROR((F7/D7)*4,"") | H7: =IFERROR(G7/0.72,"") | I7: =IFERROR(F7/0.72-F7,"")
C8: =EDATE(C7,3) -> 45324 | D8: =E7 -> 0 | F8: =IF(E8=0,"",E8-D8) | G8: =IFERROR((F8/D8)*4,"") | H8: =IFERROR(G8/0.72,"") | I8: =IFERROR(F8/0.72-F8,"")
C9: =EDATE(C8,3) -> 45414 | D9: =E8 -> 0 | F9: =IF(E9=0,"",E9-D9) | G9: =IFERROR((F9/D9)*4,"") | H9: =IFERROR(G9/0.72,"") | I9: =IFERROR(F9/0.72-F9,"")
C10: =EDATE(C9,3) -> 45506 | D10: =E9 -> 0 | F10: =IF(E10=0,"",E10-D10) | G10: =IFERROR((F10/D10)*4,"") | H10: =IFERROR(G10/0.72,"") | I10: =IFERROR(F10/0.72-F10,"")
C11: =EDATE(C10,3) -> 45598 | D11: =E10 -> 0 | F11: =IF(E11=0,"",E11-D11) | G11: =IFERROR((F11/D11)*4,"") | H11: =IFERROR(G11/0.72,"") | I11: =IFERROR(F11/0.72-F11,"")
C12: =EDATE(C11,3) -> 45690 | D12: =E11 -> 0 | F12: =IF(E12=0,"",E12-D12) | G12: =IFERROR((F12/D12)*4,"") | H12: =IFERROR(G12/0.72,"") | I12: =IFERROR(F12/0.72-F12,"")
C13: =EDATE(C12,3) -> 45779 | D13: =E12 -> 0 | F13: =IF(E13=0,"",E13-D13) | G13: =IFERROR((F13/D13)*4,"") | H13: =IFERROR(G13/0.72,"") | I13: =IFERROR(F13/0.72-F13,"")
C14: =EDATE(C13,3) -> 45871 | D14: =E13 -> 0 | F14: =IF(E14=0,"",E14-D14) | G14: =IFERROR((F14/D14)*4,"") | H14: =IFERROR(G14/0.72,"") | I14: =IFERROR(F14/0.72-F14,"")
C15: =EDATE(C14,3) -> 45963 | D15: =E14 -> 0 | F15: =IF(E15=0,"",E15-D15) | G15: =IFERROR((F15/D15)*4,"") | H15: =IFERROR(G15/0.72,"") | I15: =IFERROR(F15/0.72-F15,"")
C16: =EDATE(C15,3) -> 46055 | D16: =E15 -> 0 | F16: =IF(E16=0,"",E16-D16) | G16: =IFERROR((F16/D16)*4,"") | H16: =IFERROR(G16/0.72,"") | I16: =IFERROR(F16/0.72-F16,"")
C17: =EDATE(C16,3) -> 46144 | D17: =E16 -> 0 | F17: =IF(E17=0,"",E17-D17) | G17: =IFERROR((F17/D17)*4,"") | H17: =IFERROR(G17/0.72,"") | I17: =IFERROR(F17/0.72-F17,"")
C18: =EDATE(C17,3) -> 46236 | D18: =E17 -> 0 | F18: =IF(E18=0,"",E18-D18) | G18: =IFERROR((F18/D18)*4,"") | H18: =IFERROR(G18/0.72,"") | I18: =IFERROR(F18/0.72-F18,"")
... C46: =EDATE(C45,3) -> 48793 | D46: =E45 -> 0 | F46: =IF(E46=0,"",E46-D46) | G46: =IFERROR((F46/D46)*4,"") | H46: =IFERROR(G46/0.72,"") | I46: =IFERROR(F46/0.72-F46,"")

Sheet (4) XXXXXXX
B4: Produto | C4: Data Subscr. | D4: Valor Inicial | E4: Valor Final | F4: Dif. Valor | G4: Taxa anual Liquida | H4: Taxa anual Bruta | I4: IRS
B5: CAF / Série E | C5: 45048 | E5: 1
C6: =EDATE(C5,3) -> 45140 | D6: =E5 -> 1 | E6: 1.01 | F6: =IF(E6=0,"",E6-D6) -> 0.01 | G6: =IFERROR((F6/D6)*4,"") -> 0.04 | H6: =IFERROR(G6/0.72,"") -> 0.055555556 | I6: =IFERROR(F6/0.72-F6,"") -> 0.0038888889
C7: =EDATE(C6,3) -> 45232 | D7: =E6 -> 1.01 | F7: =IF(E7=0,"",E7-D7) | G7: =IFERROR((F7/D7)*4,"") | H7: =IFERROR(G7/0.72,"") | I7: =IFERROR(F7/0.72-F7,"")
C8: =EDATE(C7,3) -> 45324 | D8: =E7 -> 0 | F8: =IF(E8=0,"",E8-D8) | G8: =IFERROR((F8/D8)*4,"") | H8: =IFERROR(G8/0.72,"") | I8: =IFERROR(F8/0.72-F8,"")
C9: =EDATE(C8,3) -> 45414 | D9: =E8 -> 0 | F9: =IF(E9=0,"",E9-D9) | G9: =IFERROR((F9/D9)*4,"") | H9: =IFERROR(G9/0.72,"") | I9: =IFERROR(F9/0.72-F9,"")
C10: =EDATE(C9,3) -> 45506 | D10: =E9 -> 0 | F10: =IF(E10=0,"",E10-D10) | G10: =IFERROR((F10/D10)*4,"") | H10: =IFERROR(G10/0.72,"") | I10: =IFERROR(F10/0.72-F10,"")
C11: =EDATE(C10,3) -> 45598 | D11: =E10 -> 0 | F11: =IF(E11=0,"",E11-D11) | G11: =IFERROR((F11/D11)*4,"") | H11: =IFERROR(G11/0.72,"") | I11: =IFERROR(F11/0.72-F11,"")
C12: =EDATE(C11,3) -> 45690 | D12: =E11 -> 0 | F12: =IF(E12=0,"",E12-D12) | G12: =IFERROR((F12/D12)*4,"") | H12: =IFERROR(G12/0.72,"") | I12: =IFERROR(F12/0.72-F12,"")
C13: =EDATE(C12,3) -> 45779 | D13: =E12 -> 0 | F13: =IF(E13=0,"",E13-D13) | G13: =IFERROR((F13/D13)*4,"") | H13: =IFERROR(G13/0.72,"") | I13: =IFERROR(F13/0.72-F13,"")
C14: =EDATE(C13,3) -> 45871 | D14: =E13 -> 0 | F14: =IF(E14=0,"",E14-D14) | G14: =IFERROR((F14/D14)*4,"") | H14: =IFERROR(G14/0.72,"") | I14: =IFERROR(F14/0.72-F14,"")
C15: =EDATE(C14,3) -> 45963 | D15: =E14 -> 0 | F15: =IF(E15=0,"",E15-D15) | G15: =IFERROR((F15/D15)*4,"") | H15: =IFERROR(G15/0.72,"") | I15: =IFERROR(F15/0.72-F15,"")
C16: =EDATE(C15,3) -> 46055 | D16: =E15 -> 0 | F16: =IF(E16=0,"",E16-D16) | G16: =IFERROR((F16/D16)*4,"") | H16: =IFERROR(G16/0.72,"") | I16: =IFERROR(F16/0.72-F16,"")
C17: =EDATE(C16,3) -> 46144 | D17: =E16 -> 0 | F17: =IF(E17=0,"",E17-D17) | G17: =IFERROR((F17/D17)*4,"") | H17: =IFERROR(G17/0.72,"") | I17: =IFERROR(F17/0.72-F17,"")
C18: =EDATE(C17,3) -> 46236 | D18: =E17 -> 0 | F18: =IF(E18=0,"",E18-D18) | G18: =IFERROR((F18/D18)*4,"") | H18: =IFERROR(G18/0.72,"") | I18: =IFERROR(F18/0.72-F18,"")
... C46: =EDATE(C45,3) -> 48793 | D46: =E45 -> 0 | F46: =IF(E46=0,"",E46-D46) | G46: =IFERROR((F46/D46)*4,"") | H46: =IFERROR(G46/0.72,"") | I46: =IFERROR(F46/0.72-F46,"")

Sheet (5) XXXXXXX
B4: Produto | C4: Data Subscr. | D4: Valor Inicial | E4: Valor Final | F4: Dif. Valor | G4: Taxa anual Liquida | H4: Taxa anual Bruta | I4: IRS
B5: CAF / Série E | C5: 45048 | E5: 1
C6: =EDATE(C5,3) -> 45140 | D6: =E5 -> 1 | E6: 1.01 | F6: =IF(E6=0,"",E6-D6) -> 0.01 | G6: =IFERROR((F6/D6)*4,"") -> 0.04 | H6: =IFERROR(G6/0.72,"") -> 0.055555556 | I6: =IFERROR(F6/0.72-F6,"") -> 0.0038888889
C7: =EDATE(C6,3) -> 45232 | D7: =E6 -> 1.01 | F7: =IF(E7=0,"",E7-D7) | G7: =IFERROR((F7/D7)*4,"") | H7: =IFERROR(G7/0.72,"") | I7: =IFERROR(F7/0.72-F7,"")
C8: =EDATE(C7,3) -> 45324 | D8: =E7 -> 0 | F8: =IF(E8=0,"",E8-D8) | G8: =IFERROR((F8/D8)*4,"") | H8: =IFERROR(G8/0.72,"") | I8: =IFERROR(F8/0.72-F8,"")
C9: =EDATE(C8,3) -> 45414 | D9: =E8 -> 0 | F9: =IF(E9=0,"",E9-D9) | G9: =IFERROR((F9/D9)*4,"") | H9: =IFERROR(G9/0.72,"") | I9: =IFERROR(F9/0.72-F9,"")
C10: =EDATE(C9,3) -> 45506 | D10: =E9 -> 0 | F10: =IF(E10=0,"",E10-D10) | G10: =IFERROR((F10/D10)*4,"") | H10: =IFERROR(G10/0.72,"") | I10: =IFERROR(F10/0.72-F10,"")
C11: =EDATE(C10,3) -> 45598 | D11: =E10 -> 0 | F11: =IF(E11=0,"",E11-D11) | G11: =IFERROR((F11/D11)*4,"") | H11: =IFERROR(G11/0.72,"") | I11: =IFERROR(F11/0.72-F11,"")
C12: =EDATE(C11,3) -> 45690 | D12: =E11 -> 0 | F12: =IF(E12=0,"",E12-D12) | G12: =IFERROR((F12/D12)*4,"") | H12: =IFERROR(G12/0.72,"") | I12: =IFERROR(F12/0.72-F12,"")
C13: =EDATE(C12,3) -> 45779 | D13: =E12 -> 0 | F13: =IF(E13=0,"",E13-D13) | G13: =IFERROR((F13/D13)*4,"") | H13: =IFERROR(G13/0.72,"") | I13: =IFERROR(F13/0.72-F13,"")
C14: =EDATE(C13,3) -> 45871 | D14: =E13 -> 0 | F14: =IF(E14=0,"",E14-D14) | G14: =IFERROR((F14/D14)*4,"") | H14: =IFERROR(G14/0.72,"") | I14: =IFERROR(F14/0.72-F14,"")
C15: =EDATE(C14,3) -> 45963 | D15: =E14 -> 0 | F15: =IF(E15=0,"",E15-D15) | G15: =IFERROR((F15/D15)*4,"") | H15: =IFERROR(G15/0.72,"") | I15: =IFERROR(F15/0.72-F15,"")
C16: =EDATE(C15,3) -> 46055 | D16: =E15 -> 0 | F16: =IF(E16=0,"",E16-D16) | G16: =IFERROR((F16/D16)*4,"") | H16: =IFERROR(G16/0.72,"") | I16: =IFERROR(F16/0.72-F16,"")
C17: =EDATE(C16,3) -> 46144 | D17: =E16 -> 0 | F17: =IF(E17=0,"",E17-D17) | G17: =IFERROR((F17/D17)*4,"") | H17: =IFERROR(G17/0.72,"") | I17: =IFERROR(F17/0.72-F17,"")
C18: =EDATE(C17,3) -> 46236 | D18: =E17 -> 0 | F18: =IF(E18=0,"",E18-D18) | G18: =IFERROR((F18/D18)*4,"") | H18: =IFERROR(G18/0.72,"") | I18: =IFERROR(F18/0.72-F18,"")
... C46: =EDATE(C45,3) -> 48793 | D46: =E45 -> 0 | F46: =IF(E46=0,"",E46-D46) | G46: =IFERROR((F46/D46)*4,"") | H46: =IFERROR(G46/0.72,"") | I46: =IFERROR(F46/0.72-F46,"")

Sheet (6) XXXXXXX
B4: Produto | C4: Data Subscr. | D4: Valor Inicial | E4: Valor Final | F4: Dif. Valor | G4: Taxa anual Liquida | H4: Taxa anual Bruta | I4: IRS
B5: CAF / Série E | C5: 45050 | E5: 1
C6: =EDATE(C5,3) -> 45142 | D6: =E5 -> 1 | E6: 1.01 | F6: =IF(E6=0,"",E6-D6) -> 0.01 | G6: =IFERROR((F6/D6)*4,"") -> 0.04 | H6: =IFERROR(G6/0.72,"") -> 0.055555556 | I6: =IFERROR(F6/0.72-F6,"") -> 0.0038888889
C7: =EDATE(C6,3) -> 45234 | D7: =E6 -> 1.01 | F7: =IF(E7=0,"",E7-D7) | G7: =IFERROR((F7/D7)*4,"") | H7: =IFERROR(G7/0.72,"") | I7: =IFERROR(F7/0.72-F7,"")
C8: =EDATE(C7,3) -> 45326 | D8: =E7 -> 0 | F8: =IF(E8=0,"",E8-D8) | G8: =IFERROR((F8/D8)*4,"") | H8: =IFERROR(G8/0.72,"") | I8: =IFERROR(F8/0.72-F8,"")
C9: =EDATE(C8,3) -> 45416 | D9: =E8 -> 0 | F9: =IF(E9=0,"",E9-D9) | G9: =IFERROR((F9/D9)*4,"") | H9: =IFERROR(G9/0.72,"") | I9: =IFERROR(F9/0.72-F9,"")
C10: =EDATE(C9,3) -> 45508 | D10: =E9 -> 0 | F10: =IF(E10=0,"",E10-D10) | G10: =IFERROR((F10/D10)*4,"") | H10: =IFERROR(G10/0.72,"") | I10: =IFERROR(F10/0.72-F10,"")
C11: =EDATE(C10,3) -> 45600 | D11: =E10 -> 0 | F11: =IF(E11=0,"",E11-D11) | G11: =IFERROR((F11/D11)*4,"") | H11: =IFERROR(G11/0.72,"") | I11: =IFERROR(F11/0.72-F11,"")
C12: =EDATE(C11,3) -> 45692 | D12: =E11 -> 0 | F12: =IF(E12=0,"",E12-D12) | G12: =IFERROR((F12/D12)*4,"") | H12: =IFERROR(G12/0.72,"") | I12: =IFERROR(F12/0.72-F12,"")
C13: =EDATE(C12,3) -> 45781 | D13: =E12 -> 0 | F13: =IF(E13=0,"",E13-D13) | G13: =IFERROR((F13/D13)*4,"") | H13: =IFERROR(G13/0.72,"") | I13: =IFERROR(F13/0.72-F13,"")
C14: =EDATE(C13,3) -> 45873 | D14: =E13 -> 0 | F14: =IF(E14=0,"",E14-D14) | G14: =IFERROR((F14/D14)*4,"") | H14: =IFERROR(G14/0.72,"") | I14: =IFERROR(F14/0.72-F14,"")
C15: =EDATE(C14,3) -> 45965 | D15: =E14 -> 0 | F15: =IF(E15=0,"",E15-D15) | G15: =IFERROR((F15/D15)*4,"") | H15: =IFERROR(G15/0.72,"") | I15: =IFERROR(F15/0.72-F15,"")
C16: =EDATE(C15,3) -> 46057 | D16: =E15 -> 0 | F16: =IF(E16=0,"",E16-D16) | G16: =IFERROR((F16/D16)*4,"") | H16: =IFERROR(G16/0.72,"") | I16: =IFERROR(F16/0.72-F16,"")
C17: =EDATE(C16,3) -> 46146 | D17: =E16 -> 0 | F17: =IF(E17=0,"",E17-D17) | G17: =IFERROR((F17/D17)*4,"") | H17: =IFERROR(G17/0.72,"") | I17: =IFERROR(F17/0.72-F17,"")
C18: =EDATE(C17,3) -> 46238 | D18: =E17 -> 0 | F18: =IF(E18=0,"",E18-D18) | G18: =IFERROR((F18/D18)*4,"") | H18: =IFERROR(G18/0.72,"") | I18: =IFERROR(F18/0.72-F18,"")
... C46: =EDATE(C45,3) -> 48795 | D46: =E45 -> 0 | F46: =IF(E46=0,"",E46-D46) | G46: =IFERROR((F46/D46)*4,"") | H46: =IFERROR(G46/0.72,"") | I46: =IFERROR(F46/0.72-F46,"")

Sheet (7) XXXXXXX
B4: Produto | C4: Data Subscr. | D4: Valor Inicial | E4: Valor Final | F4: Dif. Valor | G4: Taxa anual Liquida | H4: Taxa anual Bruta | I4: IRS
B5: CAF / Série E | C5: 45058 | E5: 1
C6: =EDATE(C5,3) -> 45150 | D6: =E5 -> 1 | E6: 1.01 | F6: =IF(E6=0,"",E6-D6) -> 0.01 | G6: =IFERROR((F6/D6)*4,"") -> 0.04 | H6: =IFERROR(G6/0.72,"") -> 0.055555556 | I6: =IFERROR(F6/0.72-F6,"") -> 0.0038888889
C7: =EDATE(C6,3) -> 45242 | D7: =E6 -> 1.01 | F7: =IF(E7=0,"",E7-D7) | G7: =IFERROR((F7/D7)*4,"") | H7: =IFERROR(G7/0.72,"") | I7: =IFERROR(F7/0.72-F7,"")
C8: =EDATE(C7,3) -> 45334 | D8: =E7 -> 0 | F8: =IF(E8=0,"",E8-D8) | G8: =IFERROR((F8/D8)*4,"") | H8: =IFERROR(G8/0.72,"") | I8: =IFERROR(F8/0.72-F8,"")
C9: =EDATE(C8,3) -> 45424 | D9: =E8 -> 0 | F9: =IF(E9=0,"",E9-D9) | G9: =IFERROR((F9/D9)*4,"") | H9: =IFERROR(G9/0.72,"") | I9: =IFERROR(F9/0.72-F9,"")
C10: =EDATE(C9,3) -> 45516 | D10: =E9 -> 0 | F10: =IF(E10=0,"",E10-D10) | G10: =IFERROR((F10/D10)*4,"") | H10: =IFERROR(G10/0.72,"") | I10: =IFERROR(F10/0.72-F10,"")
C11: =EDATE(C10,3) -> 45608 | D11: =E10 -> 0 | F11: =IF(E11=0,"",E11-D11) | G11: =IFERROR((F11/D11)*4,"") | H11: =IFERROR(G11/0.72,"") | I11: =IFERROR(F11/0.72-F11,"")
C12: =EDATE(C11,3) -> 45700 | D12: =E11 -> 0 | F12: =IF(E12=0,"",E12-D12) | G12: =IFERROR((F12/D12)*4,"") | H12: =IFERROR(G12/0.72,"") | I12: =IFERROR(F12/0.72-F12,"")
C13: =EDATE(C12,3) -> 45789 | D13: =E12 -> 0 | F13: =IF(E13=0,"",E13-D13) | G13: =IFERROR((F13/D13)*4,"") | H13: =IFERROR(G13/0.72,"") | I13: =IFERROR(F13/0.72-F13,"")
C14: =EDATE(C13,3) -> 45881 | D14: =E13 -> 0 | F14: =IF(E14=0,"",E14-D14) | G14: =IFERROR((F14/D14)*4,"") | H14: =IFERROR(G14/0.72,"") | I14: =IFERROR(F14/0.72-F14,"")
C15: =EDATE(C14,3) -> 45973 | D15: =E14 -> 0 | F15: =IF(E15=0,"",E15-D15) | G15: =IFERROR((F15/D15)*4,"") | H15: =IFERROR(G15/0.72,"") | I15: =IFERROR(F15/0.72-F15,"")
C16: =EDATE(C15,3) -> 46065 | D16: =E15 -> 0 | F16: =IF(E16=0,"",E16-D16) | G16: =IFERROR((F16/D16)*4,"") | H16: =IFERROR(G16/0.72,"") | I16: =IFERROR(F16/0.72-F16,"")
C17: =EDATE(C16,3) -> 46154 | D17: =E16 -> 0 | F17: =IF(E17=0,"",E17-D17) | G17: =IFERROR((F17/D17)*4,"") | H17: =IFERROR(G17/0.72,"") | I17: =IFERROR(F17/0.72-F17,"")
C18: =EDATE(C17,3) -> 46246 | D18: =E17 -> 0 | F18: =IF(E18=0,"",E18-D18) | G18: =IFERROR((F18/D18)*4,"") | H18: =IFERROR(G18/0.72,"") | I18: =IFERROR(F18/0.72-F18,"")
... C46: =EDATE(C45,3) -> 48803 | D46: =E45 -> 0 | F46: =IF(E46=0,"",E46-D46) | G46: =IFERROR((F46/D46)*4,"") | H46: =IFERROR(G46/0.72,"") | I46: =IFERROR(F46/0.72-F46,"")

Sheet (8) XXXXXXX
B4: Produto | C4: Data Subscr. | D4: Valor Inicial | E4: Valor Final | F4: Dif. Valor | G4: Taxa anual Liquida | H4: Taxa anual Bruta | I4: IRS
B5: CAF / Série F | C5: 45128 | E5: 1
C6: =EDATE(C5,3) -> 45220 | D6: =E5 -> 1 | E6: 1.01 | F6: =IF(E6=0,"",E6-D6) -> 0.01 | G6: =IFERROR((F6/D6)*4,"") -> 0.04 | H6: =IFERROR(G6/0.72,"") -> 0.055555556 | I6: =IFERROR(F6/0.72-F6,"") -> 0.0038888889
C7: =EDATE(C6,3) -> 45312 | D7: =E6 -> 1.01 | F7: =IF(E7=0,"",E7-D7) | G7: =IFERROR((F7/D7)*4,"") | H7: =IFERROR(G7/0.72,"") | I7: =IFERROR(F7/0.72-F7,"")
C8: =EDATE(C7,3) -> 45403 | D8: =E7 -> 0 | F8: =IF(E8=0,"",E8-D8) | G8: =IFERROR((F8/D8)*4,"") | H8: =IFERROR(G8/0.72,"") | I8: =IFERROR(F8/0.72-F8,"")
C9: =EDATE(C8,3) -> 45494 | D9: =E8 -> 0 | F9: =IF(E9=0,"",E9-D9) | G9: =IFERROR((F9/D9)*4,"") | H9: =IFERROR(G9/0.72,"") | I9: =IFERROR(F9/0.72-F9,"")
C10: =EDATE(C9,3) -> 45586 | D10: =E9 -> 0 | F10: =IF(E10=0,"",E10-D10) | G10: =IFERROR((F10/D10)*4,"") | H10: =IFERROR(G10/0.72,"") | I10: =IFERROR(F10/0.72-F10,"")
C11: =EDATE(C10,3) -> 45678 | D11: =E10 -> 0 | F11: =IF(E11=0,"",E11-D11) | G11: =IFERROR((F11/D11)*4,"") | H11: =IFERROR(G11/0.72,"") | I11: =IFERROR(F11/0.72-F11,"")
C12: =EDATE(C11,3) -> 45768 | D12: =E11 -> 0 | F12: =IF(E12=0,"",E12-D12) | G12: =IFERROR((F12/D12)*4,"") | H12: =IFERROR(G12/0.72,"") | I12: =IFERROR(F12/0.72-F12,"")
C13: =EDATE(C12,3) -> 45859 | D13: =E12 -> 0 | F13: =IF(E13=0,"",E13-D13) | G13: =IFERROR((F13/D13)*4,"") | H13: =IFERROR(G13/0.72,"") | I13: =IFERROR(F13/0.72-F13,"")
C14: =EDATE(C13,3) -> 45951 | D14: =E13 -> 0 | F14: =IF(E14=0,"",E14-D14) | G14: =IFERROR((F14/D14)*4,"") | H14: =IFERROR(G14/0.72,"") | I14: =IFERROR(F14/0.72-F14,"")
C15: =EDATE(C14,3) -> 46043 | D15: =E14 -> 0 | F15: =IF(E15=0,"",E15-D15) | G15: =IFERROR((F15/D15)*4,"") | H15: =IFERROR(G15/0.72,"") | I15: =IFERROR(F15/0.72-F15,"")
C16: =EDATE(C15,3) -> 46133 | D16: =E15 -> 0 | F16: =IF(E16=0,"",E16-D16) | G16: =IFERROR((F16/D16)*4,"") | H16: =IFERROR(G16/0.72,"") | I16: =IFERROR(F16/0.72-F16,"")
C17: =EDATE(C16,3) -> 46224 | D17: =E16 -> 0 | F17: =IF(E17=0,"",E17-D17) | G17: =IFERROR((F17/D17)*4,"") | H17: =IFERROR(G17/0.72,"") | I17: =IFERROR(F17/0.72-F17,"")
C18: =EDATE(C17,3) -> 46316 | D18: =E17 -> 0 | F18: =IF(E18=0,"",E18-D18) | G18: =IFERROR((F18/D18)*4,"") | H18: =IFERROR(G18/0.72,"") | I18: =IFERROR(F18/0.72-F18,"")
... C46: =EDATE(C45,3) -> 48873 | D46: =E45 -> 0 | F46: =IF(E46=0,"",E46-D46) | G46: =IFERROR((F46/D46)*4,"") | H46: =IFERROR(G46/0.72,"") | I46: =IFERROR(F46/0.72-F46,"")

Sheet (9) XXXXXXX
B4: Produto | C4: Data Subscr. | D4: Valor Inicial | E4: Valor Final | F4: Dif. Valor | G4: Taxa anual Liquida | H4: Taxa anual Bruta | I4: IRS
B5: CAF / Série F | C5: 45145 | E5: 1
C6: =EDATE(C5,3) -> 45237 | D6: =E5 -> 1 | E6: 1.01 | F6: =IF(E6=0,"",E6-D6) -> 0.01 | G6: =IFERROR((F6/D6)*4,"") -> 0.04 | H6: =IFERROR(G6/0.72,"") -> 0.055555556 | I6: =IFERROR(F6/0.72-F6,"") -> 0.0038888889
C7: =EDATE(C6,3) -> 45329 | D7: =E6 -> 1.01 | F7: =IF(E7=0,"",E7-D7) | G7: =IFERROR((F7/D7)*4,"") | H7: =IFERROR(G7/0.72,"") | I7: =IFERROR(F7/0.72-F7,"")
C8: =EDATE(C7,3) -> 45419 | D8: =E7 -> 0 | F8: =IF(E8=0,"",E8-D8) | G8: =IFERROR((F8/D8)*4,"") | H8: =IFERROR(G8/0.72,"") | I8: =IFERROR(F8/0.72-F8,"")
C9: =EDATE(C8,3) -> 45511 | D9: =E8 -> 0 | F9: =IF(E9=0,"",E9-D9) | G9: =IFERROR((F9/D9)*4,"") | H9: =IFERROR(G9/0.72,"") | I9: =IFERROR(F9/0.72-F9,"")
C10: =EDATE(C9,3) -> 45603 | D10: =E9 -> 0 | F10: =IF(E10=0,"",E10-D10) | G10: =IFERROR((F10/D10)*4,"") | H10: =IFERROR(G10/0.72,"") | I10: =IFERROR(F10/0.72-F10,"")
C11: =EDATE(C10,3) -> 45695 | D11: =E10 -> 0 | F11: =IF(E11=0,"",E11-D11) | G11: =IFERROR((F11/D11)*4,"") | H11: =IFERROR(G11/0.72,"") | I11: =IFERROR(F11/0.72-F11,"")
C12: =EDATE(C11,3) -> 45784 | D12: =E11 -> 0 | F12: =IF(E12=0,"",E12-D12) | G12: =IFERROR((F12/D12)*4,"") | H12: =IFERROR(G12/0.72,"") | I12: =IFERROR(F12/0.72-F12,"")
C13: =EDATE(C12,3) -> 45876 | D13: =E12 -> 0 | F13: =IF(E13=0,"",E13-D13) | G13: =IFERROR((F13/D13)*4,"") | H13: =IFERROR(G13/0.72,"") | I13: =IFERROR(F13/0.72-F13,"")
C14: =EDATE(C13,3) -> 45968 | D14: =E13 -> 0 | F14: =IF(E14=0,"",E14-D14) | G14: =IFERROR((F14/D14)*4,"") | H14: =IFERROR(G14/0.72,"") | I14: =IFERROR(F14/0.72-F14,"")
C15: =EDATE(C14,3) -> 46060 | D15: =E14 -> 0 | F15: =IF(E15=0,"",E15-D15) | G15: =IFERROR((F15/D15)*4,"") | H15: =IFERROR(G15/0.72,"") | I15: =IFERROR(F15/0.72-F15,"")
C16: =EDATE(C15,3) -> 46149 | D16: =E15 -> 0 | F16: =IF(E16=0,"",E16-D16) | G16: =IFERROR((F16/D16)*4,"") | H16: =IFERROR(G16/0.72,"") | I16: =IFERROR(F16/0.72-F16,"")
C17: =EDATE(C16,3) -> 46241 | D17: =E16 -> 0 | F17: =IF(E17=0,"",E17-D17) | G17: =IFERROR((F17/D17)*4,"") | H17: =IFERROR(G17/0.72,"") | I17: =IFERROR(F17/0.72-F17,"")
C18: =EDATE(C17,3) -> 46333 | D18: =E17 -> 0 | F18: =IF(E18=0,"",E18-D18) | G18: =IFERROR((F18/D18)*4,"") | H18: =IFERROR(G18/0.72,"") | I18: =IFERROR(F18/0.72-F18,"")
... C46: =EDATE(C45,3) -> 48890 | D46: =E45 -> 0 | F46: =IF(E46=0,"",E46-D46) | G46: =IFERROR((F46/D46)*4,"") | H46: =IFERROR(G46/0.72,"") | I46: =IFERROR(F46/0.72-F46,"")

Sheet (10) XXXXXXX
B4: Produto | C4: Data Subscr. | D4: Valor Inicial | E4: Valor Final | F4: Dif. Valor | G4: Taxa anual Liquida | H4: Taxa anual Bruta | I4: IRS
B5: CAF / Série F | C5: 45296 | E5: 1
C6: =EDATE(C5,3) -> 45387 | D6: =E5 -> 1 | E6: 1.01 | F6: =IF(E6=0,"",E6-D6) -> 0.01 | G6: =IFERROR((F6/D6)*4,"") -> 0.04 | H6: =IFERROR(G6/0.72,"") -> 0.055555556 | I6: =IFERROR(F6/0.72-F6,"") -> 0.0038888889
C7: =EDATE(C6,3) -> 45478 | D7: =E6 -> 1.01 | F7: =IF(E7=0,"",E7-D7) | G7: =IFERROR((F7/D7)*4,"") | H7: =IFERROR(G7/0.72,"") | I7: =IFERROR(F7/0.72-F7,"")
C8: =EDATE(C7,3) -> 45570 | D8: =E7 -> 0 | F8: =IF(E8=0,"",E8-D8) | G8: =IFERROR((F8/D8)*4,"") | H8: =IFERROR(G8/0.72,"") | I8: =IFERROR(F8/0.72-F8,"")
C9: =EDATE(C8,3) -> 45662 | D9: =E8 -> 0 | F9: =IF(E9=0,"",E9-D9) | G9: =IFERROR((F9/D9)*4,"") | H9: =IFERROR(G9/0.72,"") | I9: =IFERROR(F9/0.72-F9,"")
C10: =EDATE(C9,3) -> 45752 | D10: =E9 -> 0 | F10: =IF(E10=0,"",E10-D10) | G10: =IFERROR((F10/D10)*4,"") | H10: =IFERROR(G10/0.72,"") | I10: =IFERROR(F10/0.72-F10,"")
C11: =EDATE(C10,3) -> 45843 | D11: =E10 -> 0 | F11: =IF(E11=0,"",E11-D11) | G11: =IFERROR((F11/D11)*4,"") | H11: =IFERROR(G11/0.72,"") | I11: =IFERROR(F11/0.72-F11,"")
C12: =EDATE(C11,3) -> 45935 | D12: =E11 -> 0 | F12: =IF(E12=0,"",E12-D12) | G12: =IFERROR((F12/D12)*4,"") | H12: =IFERROR(G12/0.72,"") | I12: =IFERROR(F12/0.72-F12,"")
C13: =EDATE(C12,3) -> 46027 | D13: =E12 -> 0 | F13: =IF(E13=0,"",E13-D13) | G13: =IFERROR((F13/D13)*4,"") | H13: =IFERROR(G13/0.72,"") | I13: =IFERROR(F13/0.72-F13,"")
C14: =EDATE(C13,3) -> 46117 | D14: =E13 -> 0 | F14: =IF(E14=0,"",E14-D14) | G14: =IFERROR((F14/D14)*4,"") | H14: =IFERROR(G14/0.72,"") | I14: =IFERROR(F14/0.72-F14,"")
C15: =EDATE(C14,3) -> 46208 | D15: =E14 -> 0 | F15: =IF(E15=0,"",E15-D15) | G15: =IFERROR((F15/D15)*4,"") | H15: =IFERROR(G15/0.72,"") | I15: =IFERROR(F15/0.72-F15,"")
C16: =EDATE(C15,3) -> 46300 | D16: =E15 -> 0 | F16: =IF(E16=0,"",E16-D16) | G16: =IFERROR((F16/D16)*4,"") | H16: =IFERROR(G16/0.72,"") | I16: =IFERROR(F16/0.72-F16,"")
C17: =EDATE(C16,3) -> 46392 | D17: =E16 -> 0 | F17: =IF(E17=0,"",E17-D17) | G17: =IFERROR((F17/D17)*4,"") | H17: =IFERROR(G17/0.72,"") | I17: =IFERROR(F17/0.72-F17,"")
C18: =EDATE(C17,3) -> 46482 | D18: =E17 -> 0 | F18: =IF(E18=0,"",E18-D18) | G18: =IFERROR((F18/D18)*4,"") | H18: =IFERROR(G18/0.72,"") | I18: =IFERROR(F18/0.72-F18,"")
... C46: =EDATE(C45,3) -> 49039 | D46: =E45 -> 0 | F46: =IF(E46=0,"",E46-D46) | G46: =IFERROR((F46/D46)*4,"") | H46: =IFERROR(G46/0.72,"") | I46: =IFERROR(F46/0.72-F46,"")

Sheet (11) XXXXXXX
B4: Produto | C4: Data Subscr. | D4: Valor Inicial | E4: Valor Final | F4: Dif. Valor | G4: Taxa anual Liquida | H4: Taxa anual Bruta | I4: IRS
B5: CAF / Série F | C5: 45327 | E5: 1
C6: =EDATE(C5,3) -> 45417 | D6: =E5 -> 1 | E6: 1.01 | F6: =IF(E6=0,"",E6-D6) -> 0.01 | G6: =IFERROR((F6/D6)*4,"") -> 0.04 | H6: =IFERROR(G6/0.72,"") -> 0.055555556 | I6: =IFERROR(F6/0.72-F6,"") -> 0.0038888889
C7: =EDATE(C6,3) -> 45509 | D7: =E6 -> 1.01 | F7: =IF(E7=0,"",E7-D7) | G7: =IFERROR((F7/D7)*4,"") | H7: =IFERROR(G7/0.72,"") | I7: =IFERROR(F7/0.72-F7,"")
C8: =EDATE(C7,3) -> 45601 | D8: =E7 -> 0 | F8: =IF(E8=0,"",E8-D8) | G8: =IFERROR((F8/D8)*4,"") | H8: =IFERROR(G8/0.72,"") | I8: =IFERROR(F8/0.72-F8,"")
C9: =EDATE(C8,3) -> 45693 | D9: =E8 -> 0 | F9: =IF(E9=0,"",E9-D9) | G9: =IFERROR((F9/D9)*4,"") | H9: =IFERROR(G9/0.72,"") | I9: =IFERROR(F9/0.72-F9,"")
C10: =EDATE(C9,3) -> 45782 | D10: =E9 -> 0 | F10: =IF(E10=0,"",E10-D10) | G10: =IFERROR((F10/D10)*4,"") | H10: =IFERROR(G10/0.72,"") | I10: =IFERROR(F10/0.72-F10,"")
C11: =EDATE(C10,3) -> 45874 | D11: =E10 -> 0 | F11: =IF(E11=0,"",E11-D11) | G11: =IFERROR((F11/D11)*4,"") | H11: =IFERROR(G11/0.72,"") | I11: =IFERROR(F11/0.72-F11,"")
C12: =EDATE(C11,3) -> 45966 | D12: =E11 -> 0 | F12: =IF(E12=0,"",E12-D12) | G12: =IFERROR((F12/D12)*4,"") | H12: =IFERROR(G12/0.72,"") | I12: =IFERROR(F12/0.72-F12,"")
C13: =EDATE(C12,3) -> 46058 | D13: =E12 -> 0 | F13: =IF(E13=0,"",E13-D13) | G13: =IFERROR((F13/D13)*4,"") | H13: =IFERROR(G13/0.72,"") | I13: =IFERROR(F13/0.72-F13,"")
C14: =EDATE(C13,3) -> 46147 | D14: =E13 -> 0 | F14: =IF(E14=0,"",E14-D14) | G14: =IFERROR((F14/D14)*4,"") | H14: =IFERROR(G14/0.72,"") | I14: =IFERROR(F14/0.72-F14,"")
C15: =EDATE(C14,3) -> 46239 | D15: =E14 -> 0 | F15: =IF(E15=0,"",E15-D15) | G15: =IFERROR((F15/D15)*4,"") | H15: =IFERROR(G15/0.72,"") | I15: =IFERROR(F15/0.72-F15,"")
